BEGIN:VCALENDAR
VERSION:2.0
PRODID:-//chelseamusichall - ECPv6.0.1//NONSGML v1.0//EN
CALSCALE:GREGORIAN
METHOD:PUBLISH
X-ORIGINAL-URL:https://www.chelseamusichall.com
X-WR-CALDESC:Events for chelseamusichall
REFRESH-INTERVAL;VALUE=DURATION:PT1H
X-Robots-Tag:noindex
X-PUBLISHED-TTL:PT1H
BEGIN:VTIMEZONE
TZID:America/New_York
BEGIN:DAYLIGHT
TZOFFSETFROM:-0500
TZOFFSETTO:-0400
TZNAME:EDT
DTSTART:20210314T070000
END:DAYLIGHT
BEGIN:STANDARD
TZOFFSETFROM:-0400
TZOFFSETTO:-0500
TZNAME:EST
DTSTART:20211107T060000
END:STANDARD
END:VTIMEZONE
BEGIN:VEVENT
DTSTART;TZID=America/New_York:20210904T220000
DTEND;TZID=America/New_York:20210904T220000
DTSTAMP:20260421T091507
CREATED:20210902T145318Z
LAST-MODIFIED:20210902T145635Z
UID:3579-1630792800-1630792800@www.chelseamusichall.com
SUMMARY:SAFAREE
DESCRIPTION:Saturday Night Live Presents: Safari Hip-Hop vs Caribbean • 10pm \nDUE TO THE RECENT RISE IN DELTA VARIANT CASES\, CMH IS REINSTATING PROOF OF VACCINATION AND/OR NEGATIVE PCR TEST WITHIN 72 HOURS OF ENTRY TO EVENTS AT CHELSEA MUSIC HALL\, EFFECTIVE\, AUGUST 5TH. \n  \nVAX + COVID-19 (-) PROOF POLICY
URL:https://www.chelseamusichall.com/event/safaree/
ATTACH;FMTTYPE=image/png:https://www.chelseamusichall.com/wp-content/uploads/2021/09/Screen-Shot-2021-09-02-at-10.44.02-AM-e1630594372702.png
END:VEVENT
END:VCALENDAR