BEGIN:VCALENDAR
VERSION:2.0
PRODID:-//chelseamusichall - ECPv6.0.1//NONSGML v1.0//EN
CALSCALE:GREGORIAN
METHOD:PUBLISH
X-WR-CALNAME:chelseamusichall
X-ORIGINAL-URL:https://www.chelseamusichall.com
X-WR-CALDESC:Events for chelseamusichall
REFRESH-INTERVAL;VALUE=DURATION:PT1H
X-Robots-Tag:noindex
X-PUBLISHED-TTL:PT1H
BEGIN:VTIMEZONE
TZID:America/New_York
BEGIN:DAYLIGHT
TZOFFSETFROM:-0500
TZOFFSETTO:-0400
TZNAME:EDT
DTSTART:20210314T070000
END:DAYLIGHT
BEGIN:STANDARD
TZOFFSETFROM:-0400
TZOFFSETTO:-0500
TZNAME:EST
DTSTART:20211107T060000
END:STANDARD
END:VTIMEZONE
BEGIN:VEVENT
DTSTART;TZID=America/New_York:20211010T183000
DTEND;TZID=America/New_York:20211010T183000
DTSTAMP:20260421T194057
CREATED:20210907T183257Z
LAST-MODIFIED:20211004T141928Z
UID:3587-1633890600-1633890600@www.chelseamusichall.com
SUMMARY:Vito Fun Tea
DESCRIPTION:Vito Fun Tea \nSunday\, October 10th\, 6:30pm – 10:00 pm \nChelsea Music Hall 407 W. 15th Street \nMusic by Vito Fun \nDoor by Kristin \nHosted by \nBoys of Fire Island\, David Aldea\, GogoPup\, Juanito\, Kyle Littlejohn\, Miss Cheng\, Paddy Cecil\, Ronnie Brown\, St Vezina\, Stephanie Gayer Than You\, NYSocialbee\, Tully \nGarment pop up by FloresFlores Vintage\, Decor by EXC.INC ART\, Surprise Musical Experience \n$20 pre-sale\, $25 at the door \n50% of sales go towards Urban Justice Center Sex Workers Project and Trans Asylias \nTICKETS \nDUE TO THE RECENT RISE IN DELTA VARIANT CASES\, CMH IS REINSTATING PROOF OF VACCINATION AND/OR NEGATIVE PCR TEST WITHIN 72 HOURS OF ENTRY TO EVENTS AT CHELSEA MUSIC HALL\, EFFECTIVE\, AUGUST 5TH. \nVAX + COVID-19 (-) PROOF POLICY
URL:https://www.chelseamusichall.com/event/vito-fun-tea/
ATTACH;FMTTYPE=image/png:https://www.chelseamusichall.com/wp-content/uploads/2021/09/Screen-Shot-2021-10-04-at-10.16.09-AM-1-e1633357085700.png
END:VEVENT
END:VCALENDAR