BEGIN:VCALENDAR
VERSION:2.0
PRODID:-//chelseamusichall - ECPv6.0.1//NONSGML v1.0//EN
CALSCALE:GREGORIAN
METHOD:PUBLISH
X-ORIGINAL-URL:https://www.chelseamusichall.com
X-WR-CALDESC:Events for chelseamusichall
REFRESH-INTERVAL;VALUE=DURATION:PT1H
X-Robots-Tag:noindex
X-PUBLISHED-TTL:PT1H
BEGIN:VTIMEZONE
TZID:America/New_York
BEGIN:DAYLIGHT
TZOFFSETFROM:-0500
TZOFFSETTO:-0400
TZNAME:EDT
DTSTART:20210314T070000
END:DAYLIGHT
BEGIN:STANDARD
TZOFFSETFROM:-0400
TZOFFSETTO:-0500
TZNAME:EST
DTSTART:20211107T060000
END:STANDARD
END:VTIMEZONE
BEGIN:VEVENT
DTSTART;TZID=America/New_York:20211026T200000
DTEND;TZID=America/New_York:20211026T200000
DTSTAMP:20260421T160834
CREATED:20211007T174121Z
LAST-MODIFIED:20211019T133642Z
UID:3643-1635278400-1635278400@www.chelseamusichall.com
SUMMARY:Seth Herzog Presents: Sweet Spooks
DESCRIPTION:Yes\, it’s that time of year! When there’s a crisp in the air\, and you’re starting to feel a little spooky and getting excited to finally go out a Halloween event or two this year. It’s also the time of year\, you spend far too much time trying to find your favorite sweater\, and when the shelves of candy corn they’ve been hawking at CVS finally seems appropriate! Welcome to Rocktober- and more importantly to the Sweet Spooks show happening on Tues Oct 26th. There will be thrills\, chills\, some spills\, no grills! Comedians will do bits\, and tell true tales of spookiness that has come upon them! It’s going to be a very special night out–a night you are going to remember for a very\, very long time. \nGET TICKETS \nJoining our host\, the Tonight Show’s Seth Herzog will be: \nADAM PALLY (ABC’s “Happy Endings\,” “Sonic: The Hedgehog\,” NBCs’ “The Mindy Project”) \nMICHELLE BUTEAU (“Always Be My Maybe\,” “First Wives Club\,” “Russian Doll\,” “Broad City”) \nAASIF MANDVI (CBS’ “Evil\,” Comedy Central’s “Daily Show”) \nAMBROSE MARTOS (Amazon’s “Marvelous Mrs. Mazel\,” CW’s “Gotham”) \nVICTOR VARNADO (“My Name is Earl\,” “Adventures of Pluto Nash”) \nSo drag your carcass down to the Chelsea Music Hall\, and wipe the funk of 40\,000 days at home off your soul\, and having an amazing time! For the first time in a long time. \nTHIS IS A 21+ EVENT. \nVAX + COVID-19 (-) PROOF POLICY
URL:https://www.chelseamusichall.com/event/seth-herzog-presents-sweet-spooks/
ATTACH;FMTTYPE=image/png:https://www.chelseamusichall.com/wp-content/uploads/2021/10/Sweet-Spooks-3-10_26_21-e1634650435664.png
END:VEVENT
END:VCALENDAR