BEGIN:VCALENDAR
VERSION:2.0
PRODID:-//chelseamusichall - ECPv6.0.1//NONSGML v1.0//EN
CALSCALE:GREGORIAN
METHOD:PUBLISH
X-ORIGINAL-URL:https://www.chelseamusichall.com
X-WR-CALDESC:Events for chelseamusichall
REFRESH-INTERVAL;VALUE=DURATION:PT1H
X-Robots-Tag:noindex
X-PUBLISHED-TTL:PT1H
BEGIN:VTIMEZONE
TZID:America/New_York
BEGIN:DAYLIGHT
TZOFFSETFROM:-0500
TZOFFSETTO:-0400
TZNAME:EDT
DTSTART:20210314T070000
END:DAYLIGHT
BEGIN:STANDARD
TZOFFSETFROM:-0400
TZOFFSETTO:-0500
TZNAME:EST
DTSTART:20211107T060000
END:STANDARD
END:VTIMEZONE
BEGIN:VEVENT
DTSTART;TZID=America/New_York:20211109T200000
DTEND;TZID=America/New_York:20211109T200000
DTSTAMP:20260421T172449
CREATED:20211103T182139Z
LAST-MODIFIED:20211103T183253Z
UID:3691-1636488000-1636488000@www.chelseamusichall.com
SUMMARY:Seth Herzog Presents: Sweet's Givings
DESCRIPTION:So as you’re recovering from your Halloween candy & costume hangover\, you might think you have a break- maybe a week or two before you’re inundated with “The Holidays!”; music\, commercials\, obligations\, all of it! Well you dont’! It’s here! Egg Nog is on the shelves\, ghosts wearing chains are featured in Mercedes ads\, and Hallmark is already running limitless films about a career woman who end up in small towns to save the old hotel\, and maybe just maybe\, experience some Christmas magic. However\, before you get taken by the wave\, make a pit stop with us on Tues Nov 9th at the Chelsea Music Hall (407 west 15th st) for what will be the greatest comedy show of the month. In a week\, when the NY Comedy Festival is boasting some big names headliners\, this show will have only big names! It will be filled with lots of unpredictable and spontaneous shenanigans and some of the best sets you’ll see. In a week when so many great folks are running around. you never know who will drop by and join us! \nTICKETS \n“Sweet” is hosted by SETH HERZOG (Tonight Show\, Chappelle Show\, Broad City\, 30 Rock) and will joined by : \nRACHEL FEINSTEIN (HBO’s “Crashing\,” ABC’s “The Bachelor” & “The View”) \nJENA FRIEDMAN (CC’s “Daily Show\,” Oscar nominee as writer for “Borat 2\,” Sundance’s “Indefensible\,”) \nJORDAN CARLOS (BET’s “First Wives Club\,” Netflix’s “Black Mirror\,” HBO’s “GIrls\,” CC’s “Broad City\,”) \nPlus A Very Big Special Guest will be joining us- who is in town from LA! \nSo before you make your way home to reunite with your relatives\, and realize you could do without seeing them for another “pandemic\,” come
URL:https://www.chelseamusichall.com/event/3691/
ATTACH;FMTTYPE=image/png:https://www.chelseamusichall.com/wp-content/uploads/2021/11/Screen-Shot-2021-11-03-at-2.11.49-PM-1-e1635963678907.png
END:VEVENT
BEGIN:VEVENT
DTSTART;TZID=America/New_York:20211109T220000
DTEND;TZID=America/New_York:20211109T220000
DTSTAMP:20260421T172449
CREATED:20211103T184406Z
LAST-MODIFIED:20211103T184406Z
UID:3697-1636495200-1636495200@www.chelseamusichall.com
SUMMARY:Toca Tuesdays
DESCRIPTION:Toca Tuesdays 13 Years and counting. Classic Hip Hop\, Funk\, Soul\, Reggae\, RnB + Celebrating Cyn Rose bday w/ guest Djs Enuff & Tahleim\n\n\n\n\n\nAbout this event\n\n\nWe back at it at CHELSEA MUSIC HALL! Come join in the fun as we party it up as the longest weekly classic Hip Hop Party in NYC with resident DJ Tony Touch and more! \nCovid Policy: Proof of Vaccination or negative covid pcr test from within the past 72 hours \nTICKETS \n\n\n\n\n 
URL:https://www.chelseamusichall.com/event/toca-tuesdays/
ATTACH;FMTTYPE=image/png:https://www.chelseamusichall.com/wp-content/uploads/2021/11/Screen-Shot-2021-11-03-at-2.38.45-PM-1-e1635965028559.png
END:VEVENT
END:VCALENDAR