BEGIN:VCALENDAR
VERSION:2.0
PRODID:-//chelseamusichall - ECPv6.0.1//NONSGML v1.0//EN
CALSCALE:GREGORIAN
METHOD:PUBLISH
X-ORIGINAL-URL:https://www.chelseamusichall.com
X-WR-CALDESC:Events for chelseamusichall
REFRESH-INTERVAL;VALUE=DURATION:PT1H
X-Robots-Tag:noindex
X-PUBLISHED-TTL:PT1H
BEGIN:VTIMEZONE
TZID:America/New_York
BEGIN:DAYLIGHT
TZOFFSETFROM:-0500
TZOFFSETTO:-0400
TZNAME:EDT
DTSTART:20210314T070000
END:DAYLIGHT
BEGIN:STANDARD
TZOFFSETFROM:-0400
TZOFFSETTO:-0500
TZNAME:EST
DTSTART:20211107T060000
END:STANDARD
END:VTIMEZONE
BEGIN:VEVENT
DTSTART;TZID=America/New_York:20211114T183000
DTEND;TZID=America/New_York:20211114T183000
DTSTAMP:20260421T165033
CREATED:20211109T012650Z
LAST-MODIFIED:20211109T012650Z
UID:3701-1636914600-1636914600@www.chelseamusichall.com
SUMMARY:FUN TEA
DESCRIPTION:Fun Tea \nMusic by Vito Fun & Ryan Kenney \nDoor by Kristin \nHosted by: Adventure Dave\, Boys of Fire Island\, Chris Ryan\, David Aldea\, The Doll\, Glow Job\, Gogo Pup\, Iman Le Caire\, Jon Tilli\, Kyle Littlejohn\, Paddy Cecil\, Roller Boogie\, Ronnie Brown\, Stephanie Gayer Than You\, Tully \nSunday\, November 14th\, 6:30pm – 10:00 pm \nTICKETS\nTickets $1 – $20\, $25 at the door \n 
URL:https://www.chelseamusichall.com/event/fun-tea-2/
ATTACH;FMTTYPE=image/png:https://www.chelseamusichall.com/wp-content/uploads/2021/11/Screen-Shot-2021-11-08-at-8.24.20-PM-e1636421156771.png
END:VEVENT
END:VCALENDAR