BEGIN:VCALENDAR
VERSION:2.0
PRODID:-//chelseamusichall - ECPv6.0.1//NONSGML v1.0//EN
CALSCALE:GREGORIAN
METHOD:PUBLISH
X-ORIGINAL-URL:https://www.chelseamusichall.com
X-WR-CALDESC:Events for chelseamusichall
REFRESH-INTERVAL;VALUE=DURATION:PT1H
X-Robots-Tag:noindex
X-PUBLISHED-TTL:PT1H
BEGIN:VTIMEZONE
TZID:America/New_York
BEGIN:DAYLIGHT
TZOFFSETFROM:-0500
TZOFFSETTO:-0400
TZNAME:EDT
DTSTART:20210314T070000
END:DAYLIGHT
BEGIN:STANDARD
TZOFFSETFROM:-0400
TZOFFSETTO:-0500
TZNAME:EST
DTSTART:20211107T060000
END:STANDARD
END:VTIMEZONE
BEGIN:VEVENT
DTSTART;TZID=America/New_York:20211117T183000
DTEND;TZID=America/New_York:20211117T183000
DTSTAMP:20260421T165039
CREATED:20211109T013131Z
LAST-MODIFIED:20211109T013131Z
UID:3704-1637173800-1637173800@www.chelseamusichall.com
SUMMARY:LAUGH.EVENTS PRESENTS WEDNESDAY NIGHT COMEDY
DESCRIPTION:Announcing our November show lineup! This is our last show of the year – make sure you’re in the crowd. \n@jessykirson @jaredfreid @whodougsmith @joyellenicole@shanetorres @comic_vish @kevinjhubs @chirpcreative  \nLaugh Dot Events is back and thriving in a post-pandemic world. We have an incredible lineup of comics ready to help us celebrate life with a night of laughter. \nChelsea Music Hall is reinstating proof of vaccination and/or negative PCR test within 72 hours of entry to events. Please be prepared to show either of these items before entry. \nTICKETS\n 
URL:https://www.chelseamusichall.com/event/laugh-events-presents-wednesday-night-comedy/
ATTACH;FMTTYPE=image/png:https://www.chelseamusichall.com/wp-content/uploads/2021/11/Screen-Shot-2021-11-08-at-8.27.29-PM-e1636421347406.png
END:VEVENT
END:VCALENDAR