BEGIN:VCALENDAR
VERSION:2.0
PRODID:-//chelseamusichall - ECPv6.0.1//NONSGML v1.0//EN
CALSCALE:GREGORIAN
METHOD:PUBLISH
X-ORIGINAL-URL:https://www.chelseamusichall.com
X-WR-CALDESC:Events for chelseamusichall
REFRESH-INTERVAL;VALUE=DURATION:PT1H
X-Robots-Tag:noindex
X-PUBLISHED-TTL:PT1H
BEGIN:VTIMEZONE
TZID:America/New_York
BEGIN:DAYLIGHT
TZOFFSETFROM:-0500
TZOFFSETTO:-0400
TZNAME:EDT
DTSTART:20210314T070000
END:DAYLIGHT
BEGIN:STANDARD
TZOFFSETFROM:-0400
TZOFFSETTO:-0500
TZNAME:EST
DTSTART:20211107T060000
END:STANDARD
END:VTIMEZONE
BEGIN:VEVENT
DTSTART;TZID=America/New_York:20211120T210000
DTEND;TZID=America/New_York:20211120T210000
DTSTAMP:20260421T160754
CREATED:20211118T143214Z
LAST-MODIFIED:20211120T152320Z
UID:3722-1637442000-1637442000@www.chelseamusichall.com
SUMMARY:@NairaParty Presents: ALTÉ CRUISE
DESCRIPTION:@NairaParty Presents: ALTÉ CRUISE 🧡 \nSat. Nov. 20th :: 9PM — 3AM \nA Night of Alté(rnative) Afrobeats\, R&B and Hip-Hop! \nDJs \n@DJSydneyLxve @DylanAli_ @Khalil.NYC @OfficialDJKO \nHosts \n@WhoIsSudxn @NuBlackCity @Boyé_A \n*LADIES FREE BEFORE 11 WITH RSVP* \n🎟: Alte.Splashthat.com
URL:https://www.chelseamusichall.com/event/nairaparty-presents-alte-cruise/
ATTACH;FMTTYPE=image/png:https://www.chelseamusichall.com/wp-content/uploads/2021/11/Screen-Shot-2021-11-20-at-10.22.10-AM.png
END:VEVENT
END:VCALENDAR