BEGIN:VCALENDAR
VERSION:2.0
PRODID:-//chelseamusichall - ECPv6.0.1//NONSGML v1.0//EN
CALSCALE:GREGORIAN
METHOD:PUBLISH
X-WR-CALNAME:chelseamusichall
X-ORIGINAL-URL:https://www.chelseamusichall.com
X-WR-CALDESC:Events for chelseamusichall
REFRESH-INTERVAL;VALUE=DURATION:PT1H
X-Robots-Tag:noindex
X-PUBLISHED-TTL:PT1H
BEGIN:VTIMEZONE
TZID:America/New_York
BEGIN:DAYLIGHT
TZOFFSETFROM:-0500
TZOFFSETTO:-0400
TZNAME:EDT
DTSTART:20210314T070000
END:DAYLIGHT
BEGIN:STANDARD
TZOFFSETFROM:-0400
TZOFFSETTO:-0500
TZNAME:EST
DTSTART:20211107T060000
END:STANDARD
END:VTIMEZONE
BEGIN:VEVENT
DTSTART;TZID=America/New_York:20211211T220000
DTEND;TZID=America/New_York:20211211T220000
DTSTAMP:20260421T180116
CREATED:20211210T022947Z
LAST-MODIFIED:20211210T023017Z
UID:3755-1639260000-1639260000@www.chelseamusichall.com
SUMMARY:RnB Party
DESCRIPTION:#TheRnBParty is going back to back for the Holidays! & All we want for ‘Xmas is for you to come out and join us Saturday December 11th @ Chelsea Music Hall.. plus we’re celebrating @ho3z Birthday and the return of @ravieb !! \n*Ladies free until 10:30pm. $20 cover at door.* \n 
URL:https://www.chelseamusichall.com/event/rnb-party/
ATTACH;FMTTYPE=image/png:https://www.chelseamusichall.com/wp-content/uploads/2021/12/Screen-Shot-2021-12-09-at-9.28.31-PM-e1639103374105.png
END:VEVENT
END:VCALENDAR