BEGIN:VCALENDAR
VERSION:2.0
PRODID:-//chelseamusichall - ECPv6.0.1//NONSGML v1.0//EN
CALSCALE:GREGORIAN
METHOD:PUBLISH
X-WR-CALNAME:chelseamusichall
X-ORIGINAL-URL:https://www.chelseamusichall.com
X-WR-CALDESC:Events for chelseamusichall
REFRESH-INTERVAL;VALUE=DURATION:PT1H
X-Robots-Tag:noindex
X-PUBLISHED-TTL:PT1H
BEGIN:VTIMEZONE
TZID:America/New_York
BEGIN:DAYLIGHT
TZOFFSETFROM:-0500
TZOFFSETTO:-0400
TZNAME:EDT
DTSTART:20210314T070000
END:DAYLIGHT
BEGIN:STANDARD
TZOFFSETFROM:-0400
TZOFFSETTO:-0500
TZNAME:EST
DTSTART:20211107T060000
END:STANDARD
END:VTIMEZONE
BEGIN:VEVENT
DTSTART;TZID=America/New_York:20211217T220000
DTEND;TZID=America/New_York:20211217T220000
DTSTAMP:20260421T182558
CREATED:20211130T141322Z
LAST-MODIFIED:20211130T141322Z
UID:3739-1639778400-1639778400@www.chelseamusichall.com
SUMMARY:USAMBA: Back to NY
DESCRIPTION:We are back NY!!!! \nA night full of Brazilian music for every taste:  Samba \, Funk Carioca\, & Live Bands \nSpecial Guest: \n* DJ Moniki \n* Yanka \n* Baile da Gringa (Bonde do Funk) \nGET TICKETS
URL:https://www.chelseamusichall.com/event/usamba-back-to-ny/
ATTACH;FMTTYPE=image/png:https://www.chelseamusichall.com/wp-content/uploads/2021/11/Screen-Shot-2021-11-30-at-9.10.13-AM-e1638281571261.png
END:VEVENT
END:VCALENDAR