BEGIN:VCALENDAR
VERSION:2.0
PRODID:-//chelseamusichall - ECPv6.0.1//NONSGML v1.0//EN
CALSCALE:GREGORIAN
METHOD:PUBLISH
X-WR-CALNAME:chelseamusichall
X-ORIGINAL-URL:https://www.chelseamusichall.com
X-WR-CALDESC:Events for chelseamusichall
REFRESH-INTERVAL;VALUE=DURATION:PT1H
X-Robots-Tag:noindex
X-PUBLISHED-TTL:PT1H
BEGIN:VTIMEZONE
TZID:America/New_York
BEGIN:DAYLIGHT
TZOFFSETFROM:-0500
TZOFFSETTO:-0400
TZNAME:EDT
DTSTART:20210314T070000
END:DAYLIGHT
BEGIN:STANDARD
TZOFFSETFROM:-0400
TZOFFSETTO:-0500
TZNAME:EST
DTSTART:20211107T060000
END:STANDARD
END:VTIMEZONE
BEGIN:VEVENT
DTSTART;TZID=America/New_York:20211228T080000
DTEND;TZID=America/New_York:20211228T170000
DTSTAMP:20260422T033125
CREATED:20211215T223629Z
LAST-MODIFIED:20211215T223629Z
UID:3764-1640678400-1640710800@www.chelseamusichall.com
SUMMARY:TOCA TUESDAYS
DESCRIPTION:CLASSIC HIP HOP\, REGGAE\, SOUL\, FUNK and more .. with resident dj Tony ToucH\n\n\n\n\n\n\n\nResident dj Tony Touch along with guest Djs Pete Rock and Just Blaze!!! NYC’s premier classic hip hop party… 13 years running \n\nGET TICKETS
URL:https://www.chelseamusichall.com/event/toca-tuesdays-2/
ATTACH;FMTTYPE=image/jpeg:https://www.chelseamusichall.com/wp-content/uploads/2021/12/IMG_6300-e1639607761540.jpg
END:VEVENT
END:VCALENDAR