BEGIN:VCALENDAR
VERSION:2.0
PRODID:-//chelseamusichall - ECPv6.0.1//NONSGML v1.0//EN
CALSCALE:GREGORIAN
METHOD:PUBLISH
X-WR-CALNAME:chelseamusichall
X-ORIGINAL-URL:https://www.chelseamusichall.com
X-WR-CALDESC:Events for chelseamusichall
REFRESH-INTERVAL;VALUE=DURATION:PT1H
X-Robots-Tag:noindex
X-PUBLISHED-TTL:PT1H
BEGIN:VTIMEZONE
TZID:America/New_York
BEGIN:DAYLIGHT
TZOFFSETFROM:-0500
TZOFFSETTO:-0400
TZNAME:EDT
DTSTART:20220313T070000
END:DAYLIGHT
BEGIN:STANDARD
TZOFFSETFROM:-0400
TZOFFSETTO:-0500
TZNAME:EST
DTSTART:20221106T060000
END:STANDARD
END:VTIMEZONE
BEGIN:VEVENT
DTSTART;TZID=America/New_York:20220121T074500
DTEND;TZID=America/New_York:20220121T230000
DTSTAMP:20260424T231827
CREATED:20220119T215428Z
LAST-MODIFIED:20220119T215637Z
UID:3815-1642751100-1642806000@www.chelseamusichall.com
SUMMARY:TAKE YOUR SHOES OFF
DESCRIPTION:Take Your Shoes Off \nWhat happens when a doctor\, a tech guy\, an investment banker and a loan shark are all put into one band? …Some pretty funky shit. \nTake Your Shoes Off (TYSO) is known for selling out some of the biggest bars and venues across NYC and NJ\, throwing the most fun shows around and spraying their audience with cash. TYSO plays covers spanning from the 60’s to today’s top 40’s. \nTICKETS
URL:https://www.chelseamusichall.com/event/take-your-shoes-off/
ATTACH;FMTTYPE=image/png:https://www.chelseamusichall.com/wp-content/uploads/2022/01/Screen-Shot-2022-01-19-at-4.53.38-PM-e1642629254280.png
END:VEVENT
END:VCALENDAR