BEGIN:VCALENDAR
VERSION:2.0
PRODID:-//chelseamusichall - ECPv6.0.1//NONSGML v1.0//EN
CALSCALE:GREGORIAN
METHOD:PUBLISH
X-ORIGINAL-URL:https://www.chelseamusichall.com
X-WR-CALDESC:Events for chelseamusichall
REFRESH-INTERVAL;VALUE=DURATION:PT1H
X-Robots-Tag:noindex
X-PUBLISHED-TTL:PT1H
BEGIN:VTIMEZONE
TZID:America/New_York
BEGIN:DAYLIGHT
TZOFFSETFROM:-0500
TZOFFSETTO:-0400
TZNAME:EDT
DTSTART:20220313T070000
END:DAYLIGHT
BEGIN:STANDARD
TZOFFSETFROM:-0400
TZOFFSETTO:-0500
TZNAME:EST
DTSTART:20221106T060000
END:STANDARD
END:VTIMEZONE
BEGIN:VEVENT
DTSTART;TZID=America/New_York:20220129T220000
DTEND;TZID=America/New_York:20220129T220000
DTSTAMP:20260424T231837
CREATED:20220119T214433Z
LAST-MODIFIED:20220126T170557Z
UID:3812-1643493600-1643493600@www.chelseamusichall.com
SUMMARY:Deep Root & Lunar Lounge Present Kyle Walker
DESCRIPTION:Deep Root & Lunar Lounge are joining forces to bring Kyle Walker to Chelsea Music Hall on Saturday\, January 29th. \nDoors at 10pm\, Must be 21+ w/ a valid ID & Covid Vaccination Proof \nTICKETS
URL:https://www.chelseamusichall.com/event/deep-root-lunar-lounge-present-kyle-walker/
ATTACH;FMTTYPE=image/jpeg:https://www.chelseamusichall.com/wp-content/uploads/2022/01/kyle-e1643216736419.jpg
END:VEVENT
END:VCALENDAR