BEGIN:VCALENDAR
VERSION:2.0
PRODID:-//chelseamusichall - ECPv6.0.1//NONSGML v1.0//EN
CALSCALE:GREGORIAN
METHOD:PUBLISH
X-ORIGINAL-URL:https://www.chelseamusichall.com
X-WR-CALDESC:Events for chelseamusichall
REFRESH-INTERVAL;VALUE=DURATION:PT1H
X-Robots-Tag:noindex
X-PUBLISHED-TTL:PT1H
BEGIN:VTIMEZONE
TZID:America/New_York
BEGIN:DAYLIGHT
TZOFFSETFROM:-0500
TZOFFSETTO:-0400
TZNAME:EDT
DTSTART:20220313T070000
END:DAYLIGHT
BEGIN:STANDARD
TZOFFSETFROM:-0400
TZOFFSETTO:-0500
TZNAME:EST
DTSTART:20221106T060000
END:STANDARD
END:VTIMEZONE
BEGIN:VEVENT
DTSTART;TZID=America/New_York:20220215T200000
DTEND;TZID=America/New_York:20220215T200000
DTSTAMP:20260425T215159
CREATED:20220205T181032Z
LAST-MODIFIED:20220205T181032Z
UID:3865-1644955200-1644955200@www.chelseamusichall.com
SUMMARY:SWEET GAMES '22
DESCRIPTION:Tonight Show’s Seth Herzog brings the most beloved and long-awaited edition of his monthly comedy show- THE SWEET GAMES!\n\n\n\n\n\nTICKETS\n\n\nYes\, my friends\, it’s BACK! Just in time to cure your Olympic Fever\, “THE SWEET GAMES” returns! This will be the night you’ll be talking about for a long time. Seth Herzog brings you a slew of young non-pro but hungry performers all completing in comedy-related events and then judged by a panel of celebrity judges. It’s the most silliest and spontaneous night you’ll ever experience. \nHosted by your favorite comedian- SETH HERZOG (“Tonight Show\,” “Broad City\,” “Role Models”) \nAlong with this year’s judges- \nGINA GERSHON (“Showgirls\,” “Face/Off\,” “Spider-Man”) \nJOSH CHARLES (“The Good Wife\,” “S.W.A.T.” “Dead Poets”) \nCARA BUONO (“Stranger Things\,” “Mad Men\,” “The Sopranos”) \nMORGAN MURPHY (“2 Broke Girls\,” “Modern Family\,” “Late Night w/ Jimmy Fallon”) \nPlus 6 amazing competitors! \nAlso\, to make sure we are doing this in the safeest way possible\, everyone must show proof of vaccinations to enter the venue!
URL:https://www.chelseamusichall.com/event/sweet-games-22/
ATTACH;FMTTYPE=image/jpeg:https://www.chelseamusichall.com/wp-content/uploads/2022/02/sweet-games-feb-2022-cmh.jpg
END:VEVENT
END:VCALENDAR