BEGIN:VCALENDAR
VERSION:2.0
PRODID:-//chelseamusichall - ECPv6.0.1//NONSGML v1.0//EN
CALSCALE:GREGORIAN
METHOD:PUBLISH
X-WR-CALNAME:chelseamusichall
X-ORIGINAL-URL:https://www.chelseamusichall.com
X-WR-CALDESC:Events for chelseamusichall
REFRESH-INTERVAL;VALUE=DURATION:PT1H
X-Robots-Tag:noindex
X-PUBLISHED-TTL:PT1H
BEGIN:VTIMEZONE
TZID:America/New_York
BEGIN:DAYLIGHT
TZOFFSETFROM:-0500
TZOFFSETTO:-0400
TZNAME:EDT
DTSTART:20220313T070000
END:DAYLIGHT
BEGIN:STANDARD
TZOFFSETFROM:-0400
TZOFFSETTO:-0500
TZNAME:EST
DTSTART:20221106T060000
END:STANDARD
END:VTIMEZONE
BEGIN:VEVENT
DTSTART;TZID=America/New_York:20220323T193000
DTEND;TZID=America/New_York:20220323T193000
DTSTAMP:20260421T133853
CREATED:20220227T213016Z
LAST-MODIFIED:20220227T213016Z
UID:3898-1648063800-1648063800@www.chelseamusichall.com
SUMMARY:LAUGH.EVENTS: WEDNESDAY NIGHT COMEDY
DESCRIPTION:LAUGH.EVENTS: WEDNESDAY NIGHT COMEDY IS BACK ON MARCH 23. \nLINE-UP ANNOUNCED SOON \nGET TICKETS
URL:https://www.chelseamusichall.com/event/laugh-events-wednesday-night-comedy-2/
ATTACH;FMTTYPE=image/jpeg:https://www.chelseamusichall.com/wp-content/uploads/2022/02/laugh-events-03-e1645997338381.jpg
END:VEVENT
END:VCALENDAR