BEGIN:VCALENDAR
VERSION:2.0
PRODID:-//chelseamusichall - ECPv6.0.1//NONSGML v1.0//EN
CALSCALE:GREGORIAN
METHOD:PUBLISH
X-ORIGINAL-URL:https://www.chelseamusichall.com
X-WR-CALDESC:Events for chelseamusichall
REFRESH-INTERVAL;VALUE=DURATION:PT1H
X-Robots-Tag:noindex
X-PUBLISHED-TTL:PT1H
BEGIN:VTIMEZONE
TZID:America/New_York
BEGIN:DAYLIGHT
TZOFFSETFROM:-0500
TZOFFSETTO:-0400
TZNAME:EDT
DTSTART:20220313T070000
END:DAYLIGHT
BEGIN:STANDARD
TZOFFSETFROM:-0400
TZOFFSETTO:-0500
TZNAME:EST
DTSTART:20221106T060000
END:STANDARD
END:VTIMEZONE
BEGIN:VEVENT
DTSTART;TZID=America/New_York:20220325T220000
DTEND;TZID=America/New_York:20220325T220000
DTSTAMP:20260421T150117
CREATED:20220309T030820Z
LAST-MODIFIED:20220309T030844Z
UID:3926-1648245600-1648245600@www.chelseamusichall.com
SUMMARY:#TheRnBParty
DESCRIPTION:Spring is among us so it’s only right we bring the vibes back\, R&B all night! \n#THERNBPARTY – Friday March 25th @ Chelsea Music Hall \nMusic by E-Stylez\, Dana Lu & Yoo Q. \n21+ to Party. \n$20 Cash door. Ladies Free until 10:30 with RSVP. \nGET TICKETS
URL:https://www.chelseamusichall.com/event/3926/
ATTACH;FMTTYPE=image/png:https://www.chelseamusichall.com/wp-content/uploads/2022/03/Screen-Shot-2022-03-08-at-10.05.57-PM-e1646795270381.png
END:VEVENT
END:VCALENDAR