BEGIN:VCALENDAR
VERSION:2.0
PRODID:-//chelseamusichall - ECPv6.0.1//NONSGML v1.0//EN
CALSCALE:GREGORIAN
METHOD:PUBLISH
X-WR-CALNAME:chelseamusichall
X-ORIGINAL-URL:https://www.chelseamusichall.com
X-WR-CALDESC:Events for chelseamusichall
REFRESH-INTERVAL;VALUE=DURATION:PT1H
X-Robots-Tag:noindex
X-PUBLISHED-TTL:PT1H
BEGIN:VTIMEZONE
TZID:America/New_York
BEGIN:DAYLIGHT
TZOFFSETFROM:-0500
TZOFFSETTO:-0400
TZNAME:EDT
DTSTART:20240310T070000
END:DAYLIGHT
BEGIN:STANDARD
TZOFFSETFROM:-0400
TZOFFSETTO:-0500
TZNAME:EST
DTSTART:20241103T060000
END:STANDARD
END:VTIMEZONE
BEGIN:VEVENT
DTSTART;TZID=America/New_York:20241114T180000
DTEND;TZID=America/New_York:20241114T180000
DTSTAMP:20260423T040720
CREATED:20240912T110005Z
LAST-MODIFIED:20240917T212211Z
UID:6274-1731607200-1731607200@www.chelseamusichall.com
SUMMARY:NYCF Presents: Aida Rodriguez
DESCRIPTION:Doors: 6:00PM | Show: 6:30PM\nAida Rodriguez is a new Afro-Latina\, taking the world of entertainment by storm with her wit\, strong performances\, and charismatic personality. Aida recently filmed a comedy special for Netflix as part of a new standup series “She Ready.” She made history as the first Latina to appear in two specials air in one month on both HBO and Showtime. She was handpicked by director Taylor Hackford for his film “The Comedian” starring Robert De Niro. In 2017\, Coca Cola Global Women’s LINC Conference sponsored Rodriguez’s speech that modeled a TED Talk. Rodriguez has also appeared on Comedy Central’s This Week at the Comedy Cellar\, The Nightly Show\, five-time host of the PBS Imagen Awards\, NBC Last Comic Standing’s finals\, TRUtv’s Laff Tracks\, Fox Laughs\, Nickelodeon Mom’s Night Out and Parental Discretion. This summer\, Aida will be releasing her first Netflix special\, as part of Tiffany Haddish’s They Ready series. She is also a regular contributor for The Young Turks. \nAida Rodriguez wears many hats as comedian\, actress\, writer and mother. Sharing her point of view of the world\, she writes comedy that is poignant and incisive. Her audiences often laugh hard\, think hard\, and feel hard as her comedy is cathartic and confrontational. Known as Funny Aida\, Rodriguez aims to challenge the norms of today and the discomfort or taboo-quality around controversial topics like race\, gender\, sexuality\, and family dynamics through her comedy. From the moment she takes the stage\, the audience is engaged whether in laughter or in thought. Rodriguez’s comedy is not only medicine for the soul\, but it may one day just change the world. \nTICKETS \nGuests MUST arrive 30 minutes prior to check in to guarantee seating (these shows are first come first seated\, plus standing room only). ALL LINEUPS SUBJECT TO CHANGE WITHOUT NOTICE. \nPlease be advised tickets are nonrefundable. \nYou must check in at the front of the venue with a reservationist before the show. Hecklers or loud talkers\, phone use where prohibited
URL:https://www.chelseamusichall.com/event/nycf-presents-aida-rodriguez/
ATTACH;FMTTYPE=image/png:https://www.chelseamusichall.com/wp-content/uploads/2024/09/unnamed-5-e1726607848558.png
END:VEVENT
BEGIN:VEVENT
DTSTART;TZID=America/New_York:20241114T200000
DTEND;TZID=America/New_York:20241114T200000
DTSTAMP:20260423T040720
CREATED:20240912T110042Z
LAST-MODIFIED:20240911T011947Z
UID:6276-1731614400-1731614400@www.chelseamusichall.com
SUMMARY:NYCF Presents: Grace O'Malley
DESCRIPTION:Doors: 8:00PM | Show: 8:30PM\nGrace O’Malley is a NYC-based comedian\, creator\, and podcast host at Barstool Sports. Her candid\, relatable and hilarious videos have amassed a following of nearly 1 million followers on TikTok. Grace has hit the ground running with stand-up\, set to tour with Whitney Cummings in the fall. She’s hosted red carpet events for Netflix’s Roast of Tom Brady and The Dance Moms Reunion\, to name a few. Grace co-hosts the popular podcast Plan Bri Uncut\, with Brianna LaPaglia\, where the lifelong friends banter about the realities of being rising stars in entertainment\, relationships\, work\, mental health\, and of course having fun. They are hitting the road this fall to take the podcast on tour. \nTICKETS \nGuests MUST arrive 30 minutes prior to check in to guarantee seating (these shows are first come first seated\, plus standing room only). ALL LINEUPS SUBJECT TO CHANGE WITHOUT NOTICE. \nPlease be advised tickets are nonrefundable. \nYou must check in at the front of the venue with a reservationist before the show. Hecklers or loud talkers\, phone use where prohibited
URL:https://www.chelseamusichall.com/event/nycf-presents-grace-omalley/
ATTACH;FMTTYPE=image/webp:https://www.chelseamusichall.com/wp-content/uploads/2024/09/eyJidWNrZXQiOiJwcm9kLXNpaC5zZWV0aWNrZXRzdXNhLnVzIiwia2V5IjoiM2Q3M2Q3NDAtMDU5Ny00NjZjLTgyNDQtZmJiNjE1NDhiZmVkIiwiZWRpdHMiOnt9fQ-e1726017010926.webp
END:VEVENT
END:VCALENDAR