BEGIN:VCALENDAR
VERSION:2.0
PRODID:-//chelseamusichall - ECPv6.0.1//NONSGML v1.0//EN
CALSCALE:GREGORIAN
METHOD:PUBLISH
X-WR-CALNAME:chelseamusichall
X-ORIGINAL-URL:https://www.chelseamusichall.com
X-WR-CALDESC:Events for chelseamusichall
REFRESH-INTERVAL;VALUE=DURATION:PT1H
X-Robots-Tag:noindex
X-PUBLISHED-TTL:PT1H
BEGIN:VTIMEZONE
TZID:America/New_York
BEGIN:DAYLIGHT
TZOFFSETFROM:-0500
TZOFFSETTO:-0400
TZNAME:EDT
DTSTART:20240310T070000
END:DAYLIGHT
BEGIN:STANDARD
TZOFFSETFROM:-0400
TZOFFSETTO:-0500
TZNAME:EST
DTSTART:20241103T060000
END:STANDARD
END:VTIMEZONE
BEGIN:VEVENT
DTSTART;TZID=America/New_York:20241116T180000
DTEND;TZID=America/New_York:20241116T180000
DTSTAMP:20260421T104928
CREATED:20240912T110024Z
LAST-MODIFIED:20241018T202655Z
UID:6279-1731780000-1731780000@www.chelseamusichall.com
SUMMARY:NYCF Presents: Corey B. Headlines Chelsea Music Hall!
DESCRIPTION:TICKETS FOR 6:00PM (DOORS AT 5:00PM)\nTICKETS FOR 8:30PM (DOORS AT 7:30PM)\nCorey Bonalewicz\, aka COREY B\, is an American radio personality\, nationally touring comedian\, and content creator based in New York. Corey B has been working in Radio for over ten years. He got his start in New Orleans and has hosted radio shows in Chicago and New York. Prior to the pandemic\, Corey performed stand up in the New York comedy club circuit and was planning on touring. Corey shifted his focus to long form content during the pandemic which showcased his comedic style on top of food hacks. He has amassed over 10M followers on TikTok and almost 8M followers on Facebook. He is releasing his own BBQ sauce and has equity in a New York restaurant and cookie company. Corey co-hosts a podcast\, Cane and Corey\, which is currently behind a paywall. He had a family YouTube page with his fiancé\, The B Family\, with a decent following but stopped posting due to restrictions on videos with children in them. Corey would like to dive back into YouTube and build upon this audience with a Corey B Reacts and Corey B Reviews page. \nGuests MUST arrive 30 minutes prior to check in to guarantee seating (these shows are first come first seated\, plus standing room only). ALL LINEUPS SUBJECT TO CHANGE WITHOUT NOTICE. \nPlease be advised tickets are nonrefundable. \nYou must check in at the front of the venue with a reservationist before the show. Hecklers or loud talkers\, phone use where prohibited
URL:https://www.chelseamusichall.com/event/nycf-presents-corey-b-headlines-chelsea-music-hall/
ATTACH;FMTTYPE=image/jpeg:https://www.chelseamusichall.com/wp-content/uploads/2024/09/Corey-B-Square-e1728135074538.jpg
END:VEVENT
END:VCALENDAR