BEGIN:VCALENDAR
VERSION:2.0
PRODID:-//chelseamusichall - ECPv6.0.1//NONSGML v1.0//EN
CALSCALE:GREGORIAN
METHOD:PUBLISH
X-WR-CALNAME:chelseamusichall
X-ORIGINAL-URL:https://www.chelseamusichall.com
X-WR-CALDESC:Events for chelseamusichall
REFRESH-INTERVAL;VALUE=DURATION:PT1H
X-Robots-Tag:noindex
X-PUBLISHED-TTL:PT1H
BEGIN:VTIMEZONE
TZID:America/New_York
BEGIN:DAYLIGHT
TZOFFSETFROM:-0500
TZOFFSETTO:-0400
TZNAME:EDT
DTSTART:20240310T070000
END:DAYLIGHT
BEGIN:STANDARD
TZOFFSETFROM:-0400
TZOFFSETTO:-0500
TZNAME:EST
DTSTART:20241103T060000
END:STANDARD
END:VTIMEZONE
BEGIN:VEVENT
DTSTART;TZID=America/New_York:20241119T200000
DTEND;TZID=America/New_York:20241119T200000
DTSTAMP:20260421T123704
CREATED:20241113T161458Z
LAST-MODIFIED:20241113T165754Z
UID:6318-1732046400-1732046400@www.chelseamusichall.com
SUMMARY:Seth Herzog Presents: Sweets-Giving!
DESCRIPTION:For the rest of us still in shock\, we could all use a little time to adjust and find some laughs. So join us at Sweet on Tuesday\, Nov 19th\, to get together\, share a laugh\, and start finding our way back to heal together. It’s the perfect night for a little humor and a lot of solidarity. So come join us for a VERY Special show… \nGET TICKETS \nHosted by SETH HERZOG (Tonight Show\, “Broad City\,” “30 Rock”) \nAnd joining seth this month will be: \nTOBY HUSS (“King of the Hill\,” “Seinfeld\,” “Maxxxine\,” “White House Plumbers”) \nJOSH BECKERMAN (NYC’s finest magician and mentalist. He will blow your mind\, each time) \nPAUL OLLINGER (Host of the podcast “Crazy Money\,” Host of TV series “Drinking Games” appeared on “Weather Gone Viral”) \nNICK WEBER (Nick is a well-known painter who is the frontman for the band “Girl Problems.” He brings some of the Girl Problems riz to the show this month)  \nANTHONY SCARAMUCCI \nAnd few Very Big Surprises!!
URL:https://www.chelseamusichall.com/event/seth-herzog-presents-sweets-giving-4/
ATTACH;FMTTYPE=image/webp:https://www.chelseamusichall.com/wp-content/uploads/2024/11/eyJidWNrZXQiOiJwcm9kLXNpaC5zZWV0aWNrZXRzdXNhLnVzIiwia2V5IjoiODMxMGUxMjgtZTEzZS00YzJkLTk5OTAtNzU3MzEyYmEwMGUyIiwiZWRpdHMiOnt9fQ-e1731514490423.webp
END:VEVENT
END:VCALENDAR