BEGIN:VCALENDAR
VERSION:2.0
PRODID:-//chelseamusichall - ECPv6.0.1//NONSGML v1.0//EN
CALSCALE:GREGORIAN
METHOD:PUBLISH
X-ORIGINAL-URL:https://www.chelseamusichall.com
X-WR-CALDESC:Events for chelseamusichall
REFRESH-INTERVAL;VALUE=DURATION:PT1H
X-Robots-Tag:noindex
X-PUBLISHED-TTL:PT1H
BEGIN:VTIMEZONE
TZID:America/New_York
BEGIN:DAYLIGHT
TZOFFSETFROM:-0500
TZOFFSETTO:-0400
TZNAME:EDT
DTSTART:20210314T070000
END:DAYLIGHT
BEGIN:STANDARD
TZOFFSETFROM:-0400
TZOFFSETTO:-0500
TZNAME:EST
DTSTART:20211107T060000
END:STANDARD
END:VTIMEZONE
BEGIN:VEVENT
DTSTART;TZID=America/New_York:20210805T183000
DTEND;TZID=America/New_York:20210805T183000
DTSTAMP:20260421T080307
CREATED:20210708T202520Z
LAST-MODIFIED:20210801T185747Z
UID:3483-1628188200-1628188200@www.chelseamusichall.com
SUMMARY:KATE KENNEDY: TRACK FIVE\, A BE THERE IN FIVE LIVE EVENT
DESCRIPTION:Thank you for your interest in Track Five: A Be There in Five Live event! Since it will be one of Kate’s first shows in over a year and a half\, she wanted to do something special by hosting a themed night to celebrate an artist we all love. \nThis night includes two events in one – a mini live show and a built-in TS dance party immediately after. \n4 Ticket Limit per Customer / Tickets are Non-Refundable \nCOVID POLICY: \n\nVaccinations are required.\nPlease bring either your vaccine card\, Excelsior pass\, or a picture of the full card\, showing you are fully vaccinated (2 weeks post final dose). IDs and cards will be checked for match and compliance before you may enter.\n\n*This event is not formally affiliated with Taylor Swift\, we just want to live out our dreams and be at a function where only her music plays. \nPresented by Chelsea Music Hall. \nTICKETS
URL:https://www.chelseamusichall.com/event/kate-kennedy-track-five-a-be-there-in-five-live-event/
ATTACH;FMTTYPE=image/png:https://www.chelseamusichall.com/wp-content/uploads/2021/07/Screen-Shot-2021-07-08-at-4.21.26-PM-e1625775863649.png
END:VEVENT
BEGIN:VEVENT
DTSTART;TZID=America/New_York:20210814T220000
DTEND;TZID=America/New_York:20210814T220000
DTSTAMP:20260421T080307
CREATED:20210809T172939Z
LAST-MODIFIED:20210811T142000Z
UID:3528-1628978400-1628978400@www.chelseamusichall.com
SUMMARY:We Like To Party
DESCRIPTION:Manhattan’s hottest party returns Saturday Aug. 14th @chelseamusichall \n🚨 Due to recent city mandates\, proof of vaccination with ID or negative PCR test will be required for entry 🎟 \n10PM – Cover starts at $10 \nYou must show proof of vaccination or proof of a COVID negative PCR test taken within 72 hours of the event\, in order to enter an event. \nMasks and social distancing are not required\, however – following current CDC guidance – are strongly encouraged at this time. \nVAX + COVID-19 (-) PROOF POLICY
URL:https://www.chelseamusichall.com/event/we-like-to-party-9/
ATTACH;FMTTYPE=image/png:https://www.chelseamusichall.com/wp-content/uploads/2021/08/Screen-Shot-2021-08-09-at-1.30.46-PM-e1628530310750.png
END:VEVENT
BEGIN:VEVENT
DTSTART;TZID=America/New_York:20210817T193000
DTEND;TZID=America/New_York:20210817T193000
DTSTAMP:20260421T080307
CREATED:20210809T172648Z
LAST-MODIFIED:20210813T205858Z
UID:3526-1629228600-1629228600@www.chelseamusichall.com
SUMMARY:SETH HERZOG Presents The Sweet Games
DESCRIPTION:This month’s “Sweet” at the Chelsea Music Hall is definitely one not to be missed! Back by popular demand\, is the “Sweet Games!!” Do you still have a touch of “Olympic Fever?” We do. And we can’t wait to get busy at the 10th biennial Sweet Games– in which non-pro performers compete in comedy-related events while being judged and rated by a panel of celebrities. \nThis year’s panel of celebrities will include: \n\nDAVID CROSS (“Mr. Show\,” “Arrested Development\,” “Eternal Sunshine\,”)\nARI MELBER (“The Beat\, NBC”)\nALEXANDRA TABAS (“Lost\,” “Quantico\,” “Hawaii 5-0”)\nAlex Brightman\nWyatt Cenac\n\nThis is always the most long-awaited show for those who have witnessed it before. Don’t miss out. Get your tickets now \nThis is a 21+ event. \nGET TICKETS \nYou must show proof of vaccination or proof of a COVID negative PCR test taken within 72 hours of the event\, in order to enter an event. \nMasks and social distancing are not required\, however – following current CDC guidance – are strongly encouraged at this time. \nVAX + COVID-19 (-) PROOF POLICY
URL:https://www.chelseamusichall.com/event/sweet-games-by-seth-herzog/
ATTACH;FMTTYPE=image/jpeg:https://www.chelseamusichall.com/wp-content/uploads/2021/08/seth-herzog-08-17-2021-update-e1628888321896.jpg
END:VEVENT
BEGIN:VEVENT
DTSTART;TZID=America/New_York:20210818T220000
DTEND;TZID=America/New_York:20210818T220000
DTSTAMP:20260421T080307
CREATED:20210810T174121Z
LAST-MODIFIED:20210812T164227Z
UID:3532-1629324000-1629324000@www.chelseamusichall.com
SUMMARY:THE GET TOGETHER
DESCRIPTION:Cash cover at $20 @ the door \nThe artists of Togetherness are trusted by superstars around the world\, and regularly perform and record with Lady Gaga\, Beyoncé\, Macklemore\, Rag’n’Bone Man\, Willie Colón\, and many more. Togetherness musicians have graced the stages of Carnegie Hall\, Saturday Night Live\, and Broadway shows including CHICAGO the Musical and Rock Of Ages. \nPresented by Chelsea Music Hall. \nThis is a 21+ event. \nRSVP HERE \nYou must show proof of vaccination or proof of a COVID negative PCR test taken within 72 hours of the event\, in order to enter an event. \nMasks and social distancing are not required\, however – following current CDC guidance – are strongly encouraged at this time. \nVAX + COVID-19 (-) PROOF POLICY \n 
URL:https://www.chelseamusichall.com/event/the-get-together/
ATTACH;FMTTYPE=image/jpeg:https://www.chelseamusichall.com/wp-content/uploads/2021/08/togetherness-2021-e1628786473771.jpg
END:VEVENT
BEGIN:VEVENT
DTSTART;TZID=America/New_York:20210819T190000
DTEND;TZID=America/New_York:20210819T190000
DTSTAMP:20260421T080307
CREATED:20210803T012818Z
LAST-MODIFIED:20210811T141901Z
UID:3514-1629399600-1629399600@www.chelseamusichall.com
SUMMARY:CHANEL IN THE CITY PODCAST PRESENTS: ALL-STAR COMEDY
DESCRIPTION:Chanel in the City Podcast & CO PRODUCTIONS PRESENTS a night of All Star Comedy with hilarious comedians from MTV\, Comedy Central\, The Colbert Show\, Bravo TV\, Showtime & more! \nChanel in the City podcast featured on iHeart radio’s host\, Chanel Omari\, will be hosting a night of All Star Comedy\, where her well known and famous comedian friends will perform stand up comedy & will have you laughing so hard\, being entertained! \nFeaturing Maddy Smith (MTV’s Wild N Out) John Hastings (Americas Got Talent) Carol Montgomery (ShowTime) Olga Namer (Featured & opened up for the Chelsea Handler tour) & Govenors island) Ty Fischer ( Colbert Show)\, Amanda Gail (The Shhh Show) Vanessa Hollingshead (HBO) Lana Siebel (Amazon Prime) Cindy Arena & special guests! \nThese comedians have been featured on MTV\, Comedy Central\, Netflix\, Americas Got Talent\, Bravo TV and more! Chanel in the city targets millions of listeners and viewers and now her fans can join her and her comedian friends for a night of laughter at one of the most iconic & hottest venues in NYC\, Chelsea Music Hall! \nPresented by Chanel in the City Podcast & CO PRODUCTIONS \nThis is a 21+ event. \n\nAmanda Gail\nCindy Arena\nTy Fischer\nVanessa Hollingshead\nCarole Montgomery\nJohn Hastings\nOlga Namer\nMaddy Smith\nChanel Omari \nGET TICKETS \nYou must show proof of vaccination or proof of a COVID negative PCR test taken within 72 hours of the event\, in order to enter an event. \nMasks and social distancing are not required\, however – following current CDC guidance – are strongly encouraged at this time. \nVAX + COVID-19 (-) PROOF POLICY
URL:https://www.chelseamusichall.com/event/chanel-in-the-city-podcast-presents-all-star-comedy/
ATTACH;FMTTYPE=image/jpeg:https://www.chelseamusichall.com/wp-content/uploads/2021/08/unnamed-22-e1627954087169.jpg
END:VEVENT
END:VCALENDAR