BEGIN:VCALENDAR
VERSION:2.0
PRODID:-//chelseamusichall - ECPv6.0.1//NONSGML v1.0//EN
CALSCALE:GREGORIAN
METHOD:PUBLISH
X-WR-CALNAME:chelseamusichall
X-ORIGINAL-URL:https://www.chelseamusichall.com
X-WR-CALDESC:Events for chelseamusichall
REFRESH-INTERVAL;VALUE=DURATION:PT1H
X-Robots-Tag:noindex
X-PUBLISHED-TTL:PT1H
BEGIN:VTIMEZONE
TZID:America/New_York
BEGIN:DAYLIGHT
TZOFFSETFROM:-0500
TZOFFSETTO:-0400
TZNAME:EDT
DTSTART:20210314T070000
END:DAYLIGHT
BEGIN:STANDARD
TZOFFSETFROM:-0400
TZOFFSETTO:-0500
TZNAME:EST
DTSTART:20211107T060000
END:STANDARD
END:VTIMEZONE
BEGIN:VEVENT
DTSTART;TZID=America/New_York:20210904T220000
DTEND;TZID=America/New_York:20210904T220000
DTSTAMP:20260421T102856
CREATED:20210902T145318Z
LAST-MODIFIED:20210902T145635Z
UID:3579-1630792800-1630792800@www.chelseamusichall.com
SUMMARY:SAFAREE
DESCRIPTION:Saturday Night Live Presents: Safari Hip-Hop vs Caribbean • 10pm \nDUE TO THE RECENT RISE IN DELTA VARIANT CASES\, CMH IS REINSTATING PROOF OF VACCINATION AND/OR NEGATIVE PCR TEST WITHIN 72 HOURS OF ENTRY TO EVENTS AT CHELSEA MUSIC HALL\, EFFECTIVE\, AUGUST 5TH. \n  \nVAX + COVID-19 (-) PROOF POLICY
URL:https://www.chelseamusichall.com/event/safaree/
ATTACH;FMTTYPE=image/png:https://www.chelseamusichall.com/wp-content/uploads/2021/09/Screen-Shot-2021-09-02-at-10.44.02-AM-e1630594372702.png
END:VEVENT
BEGIN:VEVENT
DTSTART;TZID=America/New_York:20210910T220000
DTEND;TZID=America/New_York:20210910T220000
DTSTAMP:20260421T102856
CREATED:20210902T142746Z
LAST-MODIFIED:20210902T142746Z
UID:3571-1631311200-1631311200@www.chelseamusichall.com
SUMMARY:INVADERS
DESCRIPTION:Join us 9/10 at Chelsea Music Hall as we celebrate everything Neptunes & The Star Trak Era\nHosted by Christina Paik + Phil Leeds \nSounds by :\nCory Townes + Niara Sterling + Jus Ske + Mike Nasty + More Soup Please \nPowered by : We Like To Party + LLP + A Good Jawn \nEarly Arrival Suggested \nDUE TO THE RECENT RISE IN DELTA VARIANT CASES\, CMH IS REINSTATING PROOF OF VACCINATION AND/OR NEGATIVE PCR TEST WITHIN 72 HOURS OF ENTRY TO EVENTS AT CHELSEA MUSIC HALL\, EFFECTIVE\, AUGUST 5TH \nCOVID GUIDELINES
URL:https://www.chelseamusichall.com/event/invaders/
ATTACH;FMTTYPE=image/png:https://www.chelseamusichall.com/wp-content/uploads/2021/09/Screen-Shot-2021-09-02-at-10.22.48-AM-e1630592851881.png
END:VEVENT
BEGIN:VEVENT
DTSTART;TZID=America/New_York:20210911T220000
DTEND;TZID=America/New_York:20210911T220000
DTSTAMP:20260421T102856
CREATED:20210902T145607Z
LAST-MODIFIED:20210902T145607Z
UID:3584-1631397600-1631397600@www.chelseamusichall.com
SUMMARY:TRICFECTA
DESCRIPTION:Saturday Night Live Presents: Trifecta / Trap / Caribbean / Latin  • 10pm \nDUE TO THE RECENT RISE IN DELTA VARIANT CASES\, CMH IS REINSTATING PROOF OF VACCINATION AND/OR NEGATIVE PCR TEST WITHIN 72 HOURS OF ENTRY TO EVENTS AT CHELSEA MUSIC HALL\, EFFECTIVE\, AUGUST 5TH. \nVAX + COVID-19 (-) PROOF POLICY
URL:https://www.chelseamusichall.com/event/tricfecta/
ATTACH;FMTTYPE=image/png:https://www.chelseamusichall.com/wp-content/uploads/2021/09/Screen-Shot-2021-09-02-at-10.44.13-AM-e1630594527610.png
END:VEVENT
BEGIN:VEVENT
DTSTART;TZID=America/New_York:20210915T190000
DTEND;TZID=America/New_York:20210915T190000
DTSTAMP:20260421T102856
CREATED:20210728T141209Z
LAST-MODIFIED:20210902T145117Z
UID:3505-1631732400-1631732400@www.chelseamusichall.com
SUMMARY:WEDNESDAY NIGHT COMEDY THEATER
DESCRIPTION:This event was previously scheduled for 8/25 but will now take place on 9/15. \n🔥hot show🔥 \nWe have an incredible show planned with performances by: \nMatteo Lane https://www.instagram.com/matteolane/ \nIan Fidance https://www.instagram.com/ianimal69/ \nJo Firestone https://www.instagram.com/yoyofirestone/ \nMarcia Belsky https://www.instagram.com/marciasky/ \nand more special guests and surprises! \nHosted by Kevin Hubschmann https://www.instagram.com/kevinjhubs/ and musical whimsy by Chris Clement https://www.instagram.com/chirpcreative/ \nDUE TO THE RECENT RISE IN DELTA VARIANT CASES\, CMH IS REINSTATING PROOF OF VACCINATION AND/OR NEGATIVE PCR TEST WITHIN 72 HOURS OF ENTRY TO EVENTS AT CHELSEA MUSIC HALL\, EFFECTIVE\, AUGUST 5TH. \nWE UNDERSTAND THAT FOR SOME\, VACCINATION REQUIREMENTS RAISE QUESTIONS OF ACCESSIBILITY AND INCLUSIVITY\, WE ARE CHOOSING TO REINSTATE THESE GUIDELINES NOT AS A WAY TO DISCRIMINATE\, BUT IN ORDER TO CREATE AN ENVIRONMENT OF SAFETY AND COMFORT AT OUR EVENTS DURING THIS COMPLEX TIME. OUR FIRST PRIORITY IS THE SAFETY OF OUR STAFF\, ARTISTS\, AND AUDIENCES\, WHILE WE INTEND TO GROW OUR COMMUNITY AND CONTINUE TO PRESENT THE MOST ARTFUL\, CULTURAL\, EDUCATIONAL\, AND DIVERSE VARIETY OF PERFORMANCES UNDER THE STREETS OF CHELSEA AND MEATPACKING. \nIF YOU’VE PURCHASED TICKETS TO AN UPCOMING EVENT THROUGH DICE APP\, AND YOU’RE UNABLE TO COMPLETE OR UNWILLING TO COMPLY WITH THESE GUIDELINES UP TO 72 HOURS PRIOR TO A TICKETED EVENT\, PLEASE CONTACT HELP@DICE.FM \nVAX + COVID-19 (-) PROOF POLICY \nGET TICKETS
URL:https://www.chelseamusichall.com/event/laugh-events-presents-au-revoir-summer/
ATTACH;FMTTYPE=image/png:https://www.chelseamusichall.com/wp-content/uploads/2021/07/Screen-Shot-2021-08-23-at-8.27.12-PM-e1629764903797.png
END:VEVENT
BEGIN:VEVENT
DTSTART;TZID=America/New_York:20210921T200000
DTEND;TZID=America/New_York:20210921T200000
DTSTAMP:20260421T102856
CREATED:20210902T143704Z
LAST-MODIFIED:20210916T012654Z
UID:3575-1632254400-1632254400@www.chelseamusichall.com
SUMMARY:SWEET 16 BY SETH HERZOG
DESCRIPTION:BUY TICKETS NOW \nYes\, that’s right\, this month marks the 16th Anniversary of New York’s my beloved and longest-running comedy show\, “SWEET!” This show has withstood location changes\, seen four Presidental administrations\, has witnessed and rise and fall of many comedians and now has survived a pandemic. It’s been NY’s favorite show for so long because it’s so loose and fun and always has many surprises. It also always includes the audience- without too much embarrassment. And it embodies the city’s resilience and energy. This year’s anniversary will be a special one! \nJoining our host\, and fearless leader\, SETH HERZOG (Tonight Show) will be: \nRICHARD KIND (Legendary Actor\, “Curb Your Enthusiasm\,” “Mad About You\,” “Argo” and much more) \nROJO PEREZ (Tonight Show\, Conan\, HBO’s Entra Nos) \nPLEASE DON’T DESTORY (the hottest sketch trio on the internet\, you’ve definitely seen their videos– many times!) \nAnd another Very Special Guest! \nDUE TO THE RECENT RISE IN DELTA VARIANT CASES\, CMH IS REINSTATING PROOF OF VACCINATION AND/OR NEGATIVE PCR TEST WITHIN 72 HOURS OF ENTRY TO EVENTS AT CHELSEA MUSIC HALL\, EFFECTIVE\, AUGUST 5TH. \nWE UNDERSTAND THAT FOR SOME\, VACCINATION REQUIREMENTS RAISE QUESTIONS OF ACCESSIBILITY AND INCLUSIVITY\, WE ARE CHOOSING TO REINSTATE THESE GUIDELINES NOT AS A WAY TO DISCRIMINATE\, BUT IN ORDER TO CREATE AN ENVIRONMENT OF SAFETY AND COMFORT AT OUR EVENTS DURING THIS COMPLEX TIME. OUR FIRST PRIORITY IS THE SAFETY OF OUR STAFF\, ARTISTS\, AND AUDIENCES\, WHILE WE INTEND TO GROW OUR COMMUNITY AND CONTINUE TO PRESENT THE MOST ARTFUL\, CULTURAL\, EDUCATIONAL\, AND DIVERSE VARIETY OF PERFORMANCES UNDER THE STREETS OF CHELSEA AND MEATPACKING. \nIF YOU’VE PURCHASED TICKETS TO AN UPCOMING EVENT THROUGH DICE APP\, AND YOU’RE UNABLE TO COMPLETE OR UNWILLING TO COMPLY WITH THESE GUIDELINES UP TO 72 HOURS PRIOR TO A ICKETED EVENT\, PLEASE CONTACT HELP@DICE.FM \nMore info can be found here: https://www.chelseamusichall.com/faq/
URL:https://www.chelseamusichall.com/event/sweet-16-by-seth-herzog/
ATTACH;FMTTYPE=image/jpeg:https://www.chelseamusichall.com/wp-content/uploads/2021/07/unnamed-21-1.jpg
END:VEVENT
BEGIN:VEVENT
DTSTART;TZID=America/New_York:20210924T190000
DTEND;TZID=America/New_York:20210924T190000
DTSTAMP:20260421T102856
CREATED:20210824T003257Z
LAST-MODIFIED:20210824T003257Z
UID:3565-1632510000-1632510000@www.chelseamusichall.com
SUMMARY:ALWAYS HAPPY VIDEO COMEDY BOP
DESCRIPTION:Never Sad & Hatched present a night of stand-up and never-before-seen comedy videos\, submitted each month by NYC’s top comedians and filmmakers and hosted by Jed Feiman & Nehemiah Markos (The New Yorker\, Just for Laughs). \nOriginating in 2017 at Brooklyn Bazaar\, the Bop has been part of the NY Comedy Festival and featured in The New York Times\, Time Out\, and NYMag’s Bedford + Bowery. \n\nDUE TO THE RECENT RISE IN DELTA VARIANT CASES\, CMH IS REINSTATING PROOF OF VACCINATION AND/OR NEGATIVE PCR TEST WITHIN 72 HOURS OF ENTRY TO EVENTS AT CHELSEA MUSIC HALL\, EFFECTIVE\, AUGUST 5TH. \nWE UNDERSTAND THAT FOR SOME\, VACCINATION REQUIREMENTS RAISE QUESTIONS OF ACCESSIBILITY AND INCLUSIVITY\, WE ARE CHOOSING TO REINSTATE THESE GUIDELINES NOT AS A WAY TO DISCRIMINATE\, BUT IN ORDER TO CREATE AN ENVIRONMENT OF SAFETY AND COMFORT AT OUR EVENTS DURING THIS COMPLEX TIME. OUR FIRST PRIORITY IS THE SAFETY OF OUR STAFF\, ARTISTS\, AND AUDIENCES\, WHILE WE INTEND TO GROW OUR COMMUNITY AND CONTINUE TO PRESENT THE MOST ARTFUL\, CULTURAL\, EDUCATIONAL\, AND DIVERSE VARIETY OF PERFORMANCES UNDER THE STREETS OF CHELSEA AND MEATPACKING. \nIF YOU’VE PURCHASED TICKETS TO AN UPCOMING EVENT THROUGH DICE APP\, AND YOU’RE UNABLE TO COMPLETE OR UNWILLING TO COMPLY WITH THESE GUIDELINES UP TO 72 HOURS PRIOR TO A TICKETED EVENT\, PLEASE CONTACT HELP@DICE.FM \nMore info can be found here: https://www.chelseamusichall.com/faq/ \nPresented by Hatched. \nThis is a 21+ event. \nFREE
URL:https://www.chelseamusichall.com/event/always-happy-video-comedy-bop/
ATTACH;FMTTYPE=image/jpeg:https://www.chelseamusichall.com/wp-content/uploads/2021/07/IMG_6378-e1629765153147.jpg
END:VEVENT
BEGIN:VEVENT
DTSTART;TZID=America/New_York:20210924T220000
DTEND;TZID=America/New_York:20210924T220000
DTSTAMP:20260421T102856
CREATED:20210921T135212Z
LAST-MODIFIED:20210921T135212Z
UID:3609-1632520800-1632520800@www.chelseamusichall.com
SUMMARY:Deep Root After Dark
DESCRIPTION:Deep Root Presents Lusso + Friends at Chelsea Music Hall. Come experience a night filled with amazing entertainment\, speciality cocktails and more at this renowned music venue in the heart of Chelsea. \n\n\n• Lusso\n\n\n\n• Aazure\n\n\n• ARI\n\n\n• Mansker\n\n\n• Raymerh\n\n\nGET TICKETS\n\nVAX + COVID-19 (-) PROOF POLICY
URL:https://www.chelseamusichall.com/event/deep-root-after-dark/
ATTACH;FMTTYPE=image/jpeg:https://www.chelseamusichall.com/wp-content/uploads/2021/09/fT9p3GDw-e1632232250849.jpeg
END:VEVENT
BEGIN:VEVENT
DTSTART;TZID=America/New_York:20210925T190000
DTEND;TZID=America/New_York:20210925T190000
DTSTAMP:20260421T102856
CREATED:20210914T133845Z
LAST-MODIFIED:20210914T133845Z
UID:3597-1632596400-1632596400@www.chelseamusichall.com
SUMMARY:¿Quién Pidió Pollo NY?
DESCRIPTION:Antonio Sanint ha estado en la escena del STAND-UP COMEDY de habla hispana en el mundo por mas de 20 años. Su mas afamada obra ¿Quién Pidió pollo? ha recorrido decenas de países con más de 2\,000 funciones. Los espectadores se ríen a carcajadas cuando se sienten identificados con las observaciones sobre ser humanos: los momentos incómodos en un baño prestado\, ir al odontólogo\, conocer una mujer bonita\, lo que siente un tímido en un gimnasio\, como vivimos el orgasmo un hombre y una mujer… sólo por nombrar algunos. Es una invitación para que nos podamos reír de nosotros mismos. RÍASE EN PÚBLICO DE TODO LO QUE NOS PASA EN PRIVADO. \nVAX + COVID-19 (-) PROOF POLICY \nTICKETS
URL:https://www.chelseamusichall.com/event/quien-pidio-pollo-ny/
ATTACH;FMTTYPE=image/jpeg:https://www.chelseamusichall.com/wp-content/uploads/2021/09/unnamed-29-e1631626707356.jpg
END:VEVENT
BEGIN:VEVENT
DTSTART;TZID=America/New_York:20210925T220000
DTEND;TZID=America/New_York:20210925T220000
DTSTAMP:20260421T102856
CREATED:20210824T003836Z
LAST-MODIFIED:20210921T135655Z
UID:3568-1632607200-1632607200@www.chelseamusichall.com
SUMMARY:Saturday Night - HipHop VS Reggae
DESCRIPTION:This Saturday night #saturdaynightlive • September 25 at 10pm • DJ Norie \nVAX + COVID-19 (-) PROOF POLICY
URL:https://www.chelseamusichall.com/event/saturday-night-hiphop-vs-reggae/
ATTACH;FMTTYPE=image/jpeg:https://www.chelseamusichall.com/wp-content/uploads/2021/07/IMG_6377-e1629765466180.jpg
END:VEVENT
BEGIN:VEVENT
DTSTART;TZID=America/New_York:20210929T220000
DTEND;TZID=America/New_York:20210929T220000
DTSTAMP:20260421T102856
CREATED:20210927T215140Z
LAST-MODIFIED:20210927T230317Z
UID:3616-1632952800-1632952800@www.chelseamusichall.com
SUMMARY:WEAREGVDS X AUDIOMACK PRESENTS WURLD LIVE
DESCRIPTION:WEAREGVDS X AUDIOMACK PRESENTS\nWURLD LIVE \nNana Kwabena • DJMohogany • DJ TGARBS \nRSVP HERE \nVAX + COVID-19 (-) PROOF POLICY
URL:https://www.chelseamusichall.com/event/wearegvds-x-audiomack-presents-wurld-live/
ATTACH;FMTTYPE=image/jpeg:https://www.chelseamusichall.com/wp-content/uploads/2021/09/IMG_1877.jpg
END:VEVENT
END:VCALENDAR