BEGIN:VCALENDAR
VERSION:2.0
PRODID:-//chelseamusichall - ECPv6.0.1//NONSGML v1.0//EN
CALSCALE:GREGORIAN
METHOD:PUBLISH
X-WR-CALNAME:chelseamusichall
X-ORIGINAL-URL:https://www.chelseamusichall.com
X-WR-CALDESC:Events for chelseamusichall
REFRESH-INTERVAL;VALUE=DURATION:PT1H
X-Robots-Tag:noindex
X-PUBLISHED-TTL:PT1H
BEGIN:VTIMEZONE
TZID:America/New_York
BEGIN:DAYLIGHT
TZOFFSETFROM:-0500
TZOFFSETTO:-0400
TZNAME:EDT
DTSTART:20210314T070000
END:DAYLIGHT
BEGIN:STANDARD
TZOFFSETFROM:-0400
TZOFFSETTO:-0500
TZNAME:EST
DTSTART:20211107T060000
END:STANDARD
END:VTIMEZONE
BEGIN:VEVENT
DTSTART;TZID=America/New_York:20211001T220000
DTEND;TZID=America/New_York:20211001T220000
DTSTAMP:20260421T131747
CREATED:20210909T110156Z
LAST-MODIFIED:20210909T185515Z
UID:3594-1633125600-1633125600@www.chelseamusichall.com
SUMMARY:YELLOW PARTY
DESCRIPTION:Yellow Party – Midnight Magic – Mannywellz \nThanksAmara – DJ Enophoria – Rich Fazo \nTICKETS \nVAX + COVID-19 (-) PROOF POLICY \n  \n 
URL:https://www.chelseamusichall.com/event/yellow-party-2/
ATTACH;FMTTYPE=image/png:https://www.chelseamusichall.com/wp-content/uploads/2021/09/oct.1flyer-copy-min-e1631213663276.png
END:VEVENT
BEGIN:VEVENT
DTSTART;TZID=America/New_York:20211002T220000
DTEND;TZID=America/New_York:20211002T220000
DTSTAMP:20260421T131747
CREATED:20210930T131650Z
LAST-MODIFIED:20210930T134226Z
UID:3622-1633212000-1633212000@www.chelseamusichall.com
SUMMARY:GRAVITY ZERO
DESCRIPTION:GRAVITO ZERO \nAVANTE • CHRISTIAN BABIC • MATIAS ALFONSO \n10PM \nVAX + COVID-19 (-) PROOF POLICY \nTICKETS
URL:https://www.chelseamusichall.com/event/gravity-zero/
ATTACH;FMTTYPE=image/png:https://www.chelseamusichall.com/wp-content/uploads/2021/09/Screen-Shot-2021-09-30-at-9.13.53-AM-e1633007769650.png
END:VEVENT
BEGIN:VEVENT
DTSTART;TZID=America/New_York:20211007T190000
DTEND;TZID=America/New_York:20211007T190000
DTSTAMP:20260421T131747
CREATED:20210914T134633Z
LAST-MODIFIED:20211004T142348Z
UID:3600-1633633200-1633633200@www.chelseamusichall.com
SUMMARY:Larry Owens
DESCRIPTION:Larry Owens is a performer\, writer\, director\, and comedian residing in New York City. Larry is a Drama Desk Award winner for Outstanding Actor and a Lucille Lortel Award Winner for starring as the alter ego of writer/composer/lyricist Michael R. Jackson in the seminal\, groundbreaking\, Pulitzer prize-winning and critically acclaimed musical\, A STRANGE LOOP\, at Playwrights Horizons\, directed by Stephen Brackett\, with choreography by Raja Feather Kelly. Larry can also be seen on the season 4 premiere of High Maintenance (HBO)\, Search Party (HBOMax)\, Helpsters (AppleTV)\, Betty (HBO)\, Dash and Lily (Netflix)\, the upcoming season of Modern Love (Amazon)\, the upcoming Miramax feature\, SILENT RETREAT\, directed by Todd Strauss-Shulson (ISN’T IT ROMANTIC?)\, and as a voice on the upcoming animated series Fairfax (Amazon). Larry studied drama and improvisation at the School at Steppenwolf and has headlined sold out venues like Caroline’s On Broadway and The Bell House. \nVAX + COVID-19 (-) PROOF POLICY \nGET TICKETS
URL:https://www.chelseamusichall.com/event/larry-owens/
ATTACH;FMTTYPE=image/jpeg:https://www.chelseamusichall.com/wp-content/uploads/2021/09/IMG_8269-e1633357413817.jpg
END:VEVENT
BEGIN:VEVENT
DTSTART;TZID=America/New_York:20211010T183000
DTEND;TZID=America/New_York:20211010T183000
DTSTAMP:20260421T131747
CREATED:20210907T183257Z
LAST-MODIFIED:20211004T141928Z
UID:3587-1633890600-1633890600@www.chelseamusichall.com
SUMMARY:Vito Fun Tea
DESCRIPTION:Vito Fun Tea \nSunday\, October 10th\, 6:30pm – 10:00 pm \nChelsea Music Hall 407 W. 15th Street \nMusic by Vito Fun \nDoor by Kristin \nHosted by \nBoys of Fire Island\, David Aldea\, GogoPup\, Juanito\, Kyle Littlejohn\, Miss Cheng\, Paddy Cecil\, Ronnie Brown\, St Vezina\, Stephanie Gayer Than You\, NYSocialbee\, Tully \nGarment pop up by FloresFlores Vintage\, Decor by EXC.INC ART\, Surprise Musical Experience \n$20 pre-sale\, $25 at the door \n50% of sales go towards Urban Justice Center Sex Workers Project and Trans Asylias \nTICKETS \nDUE TO THE RECENT RISE IN DELTA VARIANT CASES\, CMH IS REINSTATING PROOF OF VACCINATION AND/OR NEGATIVE PCR TEST WITHIN 72 HOURS OF ENTRY TO EVENTS AT CHELSEA MUSIC HALL\, EFFECTIVE\, AUGUST 5TH. \nVAX + COVID-19 (-) PROOF POLICY
URL:https://www.chelseamusichall.com/event/vito-fun-tea/
ATTACH;FMTTYPE=image/png:https://www.chelseamusichall.com/wp-content/uploads/2021/09/Screen-Shot-2021-10-04-at-10.16.09-AM-1-e1633357085700.png
END:VEVENT
BEGIN:VEVENT
DTSTART;TZID=America/New_York:20211015T190000
DTEND;TZID=America/New_York:20211015T190000
DTSTAMP:20260421T131747
CREATED:20210907T185540Z
LAST-MODIFIED:20210907T185540Z
UID:3591-1634324400-1634324400@www.chelseamusichall.com
SUMMARY:THE FABULOUS FREDDIE MERCURY TRIBUTE
DESCRIPTION:THE FABULOUS FREDDIE MERCURY TRIBUTE • 7PM \nTICKETS \nDUE TO THE RECENT RISE IN DELTA VARIANT CASES\, CMH IS REINSTATING PROOF OF VACCINATION AND/OR NEGATIVE PCR TEST WITHIN 72 HOURS OF ENTRY TO EVENTS AT CHELSEA MUSIC HALL\, EFFECTIVE\, AUGUST 5TH. \nVAX + COVID-19 (-) PROOF POLICY
URL:https://www.chelseamusichall.com/event/the-fabulous-freddie-mercury-tribute/
ATTACH;FMTTYPE=image/png:https://www.chelseamusichall.com/wp-content/uploads/2021/09/unnamed-2-e1631040118298.png
END:VEVENT
BEGIN:VEVENT
DTSTART;TZID=America/New_York:20211015T220000
DTEND;TZID=America/New_York:20211015T220000
DTSTAMP:20260421T131747
CREATED:20211001T153710Z
LAST-MODIFIED:20211001T153719Z
UID:3627-1634335200-1634335200@www.chelseamusichall.com
SUMMARY:Naira Party
DESCRIPTION:Naira Party Returns! \nFriday October 15th 2021 –  Join us for a night of Afro-Diaspora vibes! \nMusic by @DJSydneyLxve & @OfficialDJKO 🎶 \nHosted by @Sav_Britt @NublackCity @Boye_A ✨ \nAfrobeats\, AfroPop\, Amapiano\, Hip-Hop & more ALL NIGHT! 🌍 \nFree Small Chops (Suya & Pof Pof) while supplies last! \nTICKETS
URL:https://www.chelseamusichall.com/event/3627/
ATTACH;FMTTYPE=image/jpeg:https://www.chelseamusichall.com/wp-content/uploads/2021/10/naira-flyer-scaled-e1633102608718.jpg
END:VEVENT
BEGIN:VEVENT
DTSTART;TZID=America/New_York:20211016T220000
DTEND;TZID=America/New_York:20211016T220000
DTSTAMP:20260421T131747
CREATED:20211004T141439Z
LAST-MODIFIED:20211016T231629Z
UID:3631-1634421600-1634421600@www.chelseamusichall.com
SUMMARY:TheRnBParty : The Prelude
DESCRIPTION:NYC! October 16th we bring you the #TheRnBParty Prelude at @chelseamusichall.\nALL R&B ALL NIGHT! 10PM-LATE \nCome dance & sing your hearts out to the sounds of @iamtrueblends @djestylez @broquete \nRSVP \nVAX + COVID-19 (-) PROOF POLICY
URL:https://www.chelseamusichall.com/event/thernbparty-the-prelude/
ATTACH;FMTTYPE=image/png:https://www.chelseamusichall.com/wp-content/uploads/2021/10/Screen-Shot-2021-10-04-at-10.11.18-AM-e1633356837628.png
END:VEVENT
BEGIN:VEVENT
DTSTART;TZID=America/New_York:20211019T220000
DTEND;TZID=America/New_York:20211019T220000
DTSTAMP:20260421T131747
CREATED:20211010T145812Z
LAST-MODIFIED:20211014T144146Z
UID:3657-1634680800-1634680800@www.chelseamusichall.com
SUMMARY:Toca Tuesday
DESCRIPTION:Toca Tuesday is BACK! \nTUESDAY OCTOBER 19 \nKOOL DJ RED ALERT • TONY TOUCH • DJ JUNE • PHAROAHE MONCH • NEMS\n \nTICKETS
URL:https://www.chelseamusichall.com/event/toca-tuesday/
ATTACH;FMTTYPE=image/png:https://www.chelseamusichall.com/wp-content/uploads/2021/10/Screen-Shot-2021-10-14-at-10.36.57-AM-e1634222381645.png
END:VEVENT
BEGIN:VEVENT
DTSTART;TZID=America/New_York:20211020T183000
DTEND;TZID=America/New_York:20211020T183000
DTSTAMP:20260421T131747
CREATED:20211007T180058Z
LAST-MODIFIED:20211015T141051Z
UID:3653-1634754600-1634754600@www.chelseamusichall.com
SUMMARY:Laugh.Events: Wednesday Night Comedy Theater
DESCRIPTION:New York City! Come check out our NSFW show on 10/20. \nWe’ll bring the jokes\, you bring the laughs! \nDoors open at 6:30PM. \nGET TICKETS \nVAX + COVID-19 (-) PROOF POLICY
URL:https://www.chelseamusichall.com/event/laugh-events-wednesday-night-comedy-theater/
ATTACH;FMTTYPE=image/png:https://www.chelseamusichall.com/wp-content/uploads/2021/10/HalloweenShowFlyer3_withLineupLime-01-e1634306544728.png
END:VEVENT
BEGIN:VEVENT
DTSTART;TZID=America/New_York:20211021T200000
DTEND;TZID=America/New_York:20211021T220000
DTSTAMP:20260421T131747
CREATED:20211014T145107Z
LAST-MODIFIED:20211014T145107Z
UID:3674-1634846400-1634853600@www.chelseamusichall.com
SUMMARY:TRY ME
DESCRIPTION:TRY ME \nMusic: Kola Champagne • Taul Paul • Actual | Panther + MORE TO COME
URL:https://www.chelseamusichall.com/event/try-me/
ATTACH;FMTTYPE=image/png:https://www.chelseamusichall.com/wp-content/uploads/2021/10/Screen-Shot-2021-10-14-at-10.36.09-AM-e1634223001934.png
END:VEVENT
BEGIN:VEVENT
DTSTART;TZID=America/New_York:20211022T220000
DTEND;TZID=America/New_York:20211022T220000
DTSTAMP:20260421T131747
CREATED:20211007T175526Z
LAST-MODIFIED:20211007T175552Z
UID:3650-1634940000-1634940000@www.chelseamusichall.com
SUMMARY:FRIDAY NIGHT LIGHTS : THE 4TH QUARTER
DESCRIPTION:DREEMTEAM ENTERTAINMENT & FRIENDS PRESENT:\nFRIDAY NIGHT LIGHTS : THE 4TH QUARTER \nGET TICKETS \nExperience Includes:\nThree DJ’s with variety of music (House/Alternative\, Afrobeats\, Reggae\, Hip-Hop\, Latin Pop\, Bachata\, and more!\nBottle service priority\nProfessional photographer and videographer catching the greatest moments\nSpecial guests and live performances! \nArrive before 12:00 AM!!! Tickets will be honored till 12:00 AM. All sales are final. No refunds. \n*MUST BE 21\, ID NEEDED\, PLEASE BRING ID\, VACCINATION REQUIRED* \nMUSIC BY:  \nDJ CELLY • DJ GEEZY • DJ TOONS \nHOSTED BY: @SUPREME_REEM \nVAX + COVID-19 (-) PROOF POLICY
URL:https://www.chelseamusichall.com/event/friday-night-lights-the-4th-quarter/
ATTACH;FMTTYPE=image/png:https://www.chelseamusichall.com/wp-content/uploads/2021/10/unnamed-3-e1633629217338.png
END:VEVENT
BEGIN:VEVENT
DTSTART;TZID=America/New_York:20211023T220000
DTEND;TZID=America/New_York:20211023T220000
DTSTAMP:20260421T131747
CREATED:20211013T164350Z
LAST-MODIFIED:20211013T164350Z
UID:3666-1635026400-1635026400@www.chelseamusichall.com
SUMMARY:Dusse Fest
DESCRIPTION:Free Entry with Rsvp + Free Dusse drink until 11:30pm \nRSVP NOW
URL:https://www.chelseamusichall.com/event/dusse-fest/
ATTACH;FMTTYPE=image/png:https://www.chelseamusichall.com/wp-content/uploads/2021/10/Screen-Shot-2021-10-13-at-12.10.46-PM-1-e1634143370733.png
END:VEVENT
BEGIN:VEVENT
DTSTART;TZID=America/New_York:20211026T200000
DTEND;TZID=America/New_York:20211026T200000
DTSTAMP:20260421T131747
CREATED:20211007T174121Z
LAST-MODIFIED:20211019T133642Z
UID:3643-1635278400-1635278400@www.chelseamusichall.com
SUMMARY:Seth Herzog Presents: Sweet Spooks
DESCRIPTION:Yes\, it’s that time of year! When there’s a crisp in the air\, and you’re starting to feel a little spooky and getting excited to finally go out a Halloween event or two this year. It’s also the time of year\, you spend far too much time trying to find your favorite sweater\, and when the shelves of candy corn they’ve been hawking at CVS finally seems appropriate! Welcome to Rocktober- and more importantly to the Sweet Spooks show happening on Tues Oct 26th. There will be thrills\, chills\, some spills\, no grills! Comedians will do bits\, and tell true tales of spookiness that has come upon them! It’s going to be a very special night out–a night you are going to remember for a very\, very long time. \nGET TICKETS \nJoining our host\, the Tonight Show’s Seth Herzog will be: \nADAM PALLY (ABC’s “Happy Endings\,” “Sonic: The Hedgehog\,” NBCs’ “The Mindy Project”) \nMICHELLE BUTEAU (“Always Be My Maybe\,” “First Wives Club\,” “Russian Doll\,” “Broad City”) \nAASIF MANDVI (CBS’ “Evil\,” Comedy Central’s “Daily Show”) \nAMBROSE MARTOS (Amazon’s “Marvelous Mrs. Mazel\,” CW’s “Gotham”) \nVICTOR VARNADO (“My Name is Earl\,” “Adventures of Pluto Nash”) \nSo drag your carcass down to the Chelsea Music Hall\, and wipe the funk of 40\,000 days at home off your soul\, and having an amazing time! For the first time in a long time. \nTHIS IS A 21+ EVENT. \nVAX + COVID-19 (-) PROOF POLICY
URL:https://www.chelseamusichall.com/event/seth-herzog-presents-sweet-spooks/
ATTACH;FMTTYPE=image/png:https://www.chelseamusichall.com/wp-content/uploads/2021/10/Sweet-Spooks-3-10_26_21-e1634650435664.png
END:VEVENT
BEGIN:VEVENT
DTSTART;TZID=America/New_York:20211030T220000
DTEND;TZID=America/New_York:20211030T220000
DTSTAMP:20260421T131747
CREATED:20211013T163557Z
LAST-MODIFIED:20211013T204106Z
UID:3663-1635631200-1635631200@www.chelseamusichall.com
SUMMARY:Fright Fest Halloween Costume Party
DESCRIPTION:Fright Fest Halloween Costume Party \nLadies free before until 12am and Guys Free until 1130pm \nHip Hop • RNB • Latin • Caribbean \nRSVP HERE
URL:https://www.chelseamusichall.com/event/fright-fest-halloween-costume-party/
ATTACH;FMTTYPE=image/png:https://www.chelseamusichall.com/wp-content/uploads/2021/10/Screen-Shot-2021-10-13-at-12.10.54-PM-e1634142933814.png
END:VEVENT
BEGIN:VEVENT
DTSTART;TZID=America/New_York:20211031T220000
DTEND;TZID=America/New_York:20211031T220000
DTSTAMP:20260421T131747
CREATED:20211011T144035Z
LAST-MODIFIED:20211011T144035Z
UID:3660-1635717600-1635717600@www.chelseamusichall.com
SUMMARY:FUNKBOX HALLOWEEN
DESCRIPTION:Funkbox is BACK at CMH for a special Halloween Night. \nResident DJ Tony Touch. Guest Djs Joe Claussell + Ejoe \nCome dance with us! \nTICKETS
URL:https://www.chelseamusichall.com/event/funkbox-halloween/
ATTACH;FMTTYPE=image/png:https://www.chelseamusichall.com/wp-content/uploads/2021/10/Screen-Shot-2021-10-11-at-10.30.05-AM-e1633962647477.png
END:VEVENT
END:VCALENDAR