BEGIN:VCALENDAR
VERSION:2.0
PRODID:-//chelseamusichall - ECPv6.0.1//NONSGML v1.0//EN
CALSCALE:GREGORIAN
METHOD:PUBLISH
X-ORIGINAL-URL:https://www.chelseamusichall.com
X-WR-CALDESC:Events for chelseamusichall
REFRESH-INTERVAL;VALUE=DURATION:PT1H
X-Robots-Tag:noindex
X-PUBLISHED-TTL:PT1H
BEGIN:VTIMEZONE
TZID:America/New_York
BEGIN:DAYLIGHT
TZOFFSETFROM:-0500
TZOFFSETTO:-0400
TZNAME:EDT
DTSTART:20240310T070000
END:DAYLIGHT
BEGIN:STANDARD
TZOFFSETFROM:-0400
TZOFFSETTO:-0500
TZNAME:EST
DTSTART:20241103T060000
END:STANDARD
END:VTIMEZONE
BEGIN:VEVENT
DTSTART;TZID=America/New_York:20240116T200000
DTEND;TZID=America/New_York:20240116T200000
DTSTAMP:20260423T091429
CREATED:20240110T022016Z
LAST-MODIFIED:20240110T022028Z
UID:6111-1705435200-1705435200@www.chelseamusichall.com
SUMMARY:Seth Herzog Presents: SWEET 24
DESCRIPTION:Welcome to 2024! And I trust you started it off right\, hanging out of the sunroof of a white limo\, careening down 7th Ave\, wearing nothing more than a fur coat\, with a bottle of Champagne in one hand and Al Roker in the other. \nThe year of the Wood Dragon! And the Sweet Show is stepping into the new year like a Dragon doing drag- with a show bigger than this month deserves! \nLet’s hope you stay off the Epstein List\, one way to do that is to come join us at the Chelsea Music Hall on Tues Jan 16th. \nHosted by our own beloved SETH HERZOG (Tonight Show\, “Broad City\,” “Chappelle Show\,” “30 Rock”) \nAnd he’s joined by: \nADAM PALLY (“Fubar\,” “Iron Man 3\,” “Sonic The Hedgehog\,”) \nDAVE HILL (“Full Frontal w Sam Bee\,” “Unbreakable Kimmy Schmidt\,” “Boy Band”) \nJORDAN CARLOS (“Black Mirror\,” “The Affair\,” “Girls\,” “Braod City\,” “Party Down\,” “Boy Band\,”) \nNOEL LEON (“Sherman’s Showcase\,” “Bad Agents” Internet sensation) \nNAT TONWSEN (Tonight Show\, College Humor\, Host of “The Parlor”) \nAnd Another Very Special Guest!! \nTICKETS
URL:https://www.chelseamusichall.com/event/seth-herzog-presents-sweet-24/
ATTACH;FMTTYPE=image/png:https://www.chelseamusichall.com/wp-content/uploads/2024/01/Screenshot-2024-01-09-at-8.37.19 PM-e1704853112525.png
END:VEVENT
END:VCALENDAR