BEGIN:VCALENDAR
VERSION:2.0
PRODID:-//chelseamusichall - ECPv6.0.1//NONSGML v1.0//EN
CALSCALE:GREGORIAN
METHOD:PUBLISH
X-WR-CALNAME:chelseamusichall
X-ORIGINAL-URL:https://www.chelseamusichall.com
X-WR-CALDESC:Events for chelseamusichall
REFRESH-INTERVAL;VALUE=DURATION:PT1H
X-Robots-Tag:noindex
X-PUBLISHED-TTL:PT1H
BEGIN:VTIMEZONE
TZID:America/New_York
BEGIN:DAYLIGHT
TZOFFSETFROM:-0500
TZOFFSETTO:-0400
TZNAME:EDT
DTSTART:20240310T070000
END:DAYLIGHT
BEGIN:STANDARD
TZOFFSETFROM:-0400
TZOFFSETTO:-0500
TZNAME:EST
DTSTART:20241103T060000
END:STANDARD
END:VTIMEZONE
BEGIN:VEVENT
DTSTART;TZID=America/New_York:20240220T200000
DTEND;TZID=America/New_York:20240220T200000
DTSTAMP:20260421T180444
CREATED:20240202T195111Z
LAST-MODIFIED:20240202T195111Z
UID:6131-1708459200-1708459200@www.chelseamusichall.com
SUMMARY:SWEET! DATING GAME SHOW!
DESCRIPTION:SWEET! DATING GAME SHOW!  \nFebruary marks the month for one of the most beloved Sweet traditions- the Dating Game Show! Lots of show  have tried it but this is the Original! Once a year this show gives the audience a chance to shine and maybe fall in love. Each performer on the show will do a short set and then choose an audience member to go on short date on stage in front of everyone. They will get chosen from a list of true fun facts about each person in attendance. It’s always fun\, funny and filled with the right kind of awkwardness. Don’t miss this show\, you never know who you might end up with.. \nJoining us on the show so far….JARED FRIED (Podcasting Star\, TOnight Show\, Selling out Town Hall this month)YAMANEIKA SAUNDERS (Tonight Show\, Drew Barrymore Show\, Sherri\,)\nIRIS BAHR (Curb Your Enthusiasm\, Friends\, ) \n  \nTICKETS
URL:https://www.chelseamusichall.com/event/sweet-dating-game-show/
ATTACH;FMTTYPE=image/jpeg:https://www.chelseamusichall.com/wp-content/uploads/2024/02/eyJidWNrZXQiOiJwcm9kLXNpaC5zZWV0aWNrZXRzdXNhLnVzIiwia2V5IjoiODQ2NWM1MWEtMmQzOS00N2RmLWFkMzgtNTcwNGRmNDQwN2NiIiwiZWRpdHMiOnt9fQ.jpeg
END:VEVENT
BEGIN:VEVENT
DTSTART;TZID=America/New_York:20240227T190000
DTEND;TZID=America/New_York:20240227T190000
DTSTAMP:20260421T180444
CREATED:20240127T154237Z
LAST-MODIFIED:20240206T190514Z
UID:6121-1709060400-1709060400@www.chelseamusichall.com
SUMMARY:OnSight w/ Sam Jay & Keith Johnson
DESCRIPTION:If Laughter is indeed the best medicine\, then Sam Jay has the cure for it all. Fresh off the release of her co-starring role alongside Jonah Hill and Eddie Murphy in the Netflix comedy “You People\,” Sam Jay returns to the stage as comedic therapist in her upcoming live comedy show OnSight: A Late-Night Therapy Show for Comics. \nDuring this monthly stand-up show taking place at Chelsea Music Hall\, Jay and her co-host Keith Johnson will engage with members of the audience and surprise guests on their “therapist’s couch” as they unpack issues from relationships\, life\, family and careers\, then walk “patients” to solutions with relentless jokes and antagonizing feedback — allowing the guests to see themselves in ways they’ve never seen before. \n“Keith hit me like\, let’s do a show where you therapize people the “Sam Way.” And what was is that you ask? OnSight is some fun silly billy sh*t\, pull ya a** up and find out\,” says Sam Jay. \nTICKETS
URL:https://www.chelseamusichall.com/event/onsight-w-sam-jay-keith-johnson-2/
ATTACH;FMTTYPE=image/png:https://www.chelseamusichall.com/wp-content/uploads/2024/01/Screenshot-2024-01-25-at-5.04.12 PM-e1707245662655.png
END:VEVENT
END:VCALENDAR