BEGIN:VCALENDAR
VERSION:2.0
PRODID:-//chelseamusichall - ECPv6.0.1//NONSGML v1.0//EN
CALSCALE:GREGORIAN
METHOD:PUBLISH
X-WR-CALNAME:chelseamusichall
X-ORIGINAL-URL:https://www.chelseamusichall.com
X-WR-CALDESC:Events for chelseamusichall
REFRESH-INTERVAL;VALUE=DURATION:PT1H
X-Robots-Tag:noindex
X-PUBLISHED-TTL:PT1H
BEGIN:VTIMEZONE
TZID:America/New_York
BEGIN:DAYLIGHT
TZOFFSETFROM:-0500
TZOFFSETTO:-0400
TZNAME:EDT
DTSTART:20240310T070000
END:DAYLIGHT
BEGIN:STANDARD
TZOFFSETFROM:-0400
TZOFFSETTO:-0500
TZNAME:EST
DTSTART:20241103T060000
END:STANDARD
END:VTIMEZONE
BEGIN:VEVENT
DTSTART;TZID=America/New_York:20240618T183000
DTEND;TZID=America/New_York:20240618T183000
DTSTAMP:20260421T082604
CREATED:20240610T180647Z
LAST-MODIFIED:20240610T180647Z
UID:6190-1718735400-1718735400@www.chelseamusichall.com
SUMMARY:Waggytail TURNS 20 Comedy Benefit!
DESCRIPTION:Celebrate our 20th anniversary with performances by Janeane Garofalo\, Jamal Harrington\, Christian Finnegan\, Seth Herzog\, Rob Cantrell\, Surprise Guests !!! Dogs!!! and HOST Holly DeRito! \nTHIS IS A 21+ EVENT \n  \nTICKETS
URL:https://www.chelseamusichall.com/event/waggytail-turns-20-comedy-benefit/
ATTACH;FMTTYPE=image/jpeg:https://www.chelseamusichall.com/wp-content/uploads/2024/06/unnamed-19-e1718042782338.jpg
END:VEVENT
BEGIN:VEVENT
DTSTART;TZID=America/New_York:20240618T200000
DTEND;TZID=America/New_York:20240618T200000
DTSTAMP:20260421T082604
CREATED:20240612T161307Z
LAST-MODIFIED:20240612T161543Z
UID:6193-1718740800-1718740800@www.chelseamusichall.com
SUMMARY:Seth Herzog Presents: Sweet June
DESCRIPTION:Summer is here! It’s time to get outside and plan some trips and post some pictures of your legs by some water- and make all the “hate followers” jealous. And also it’s time to plan your summer redemption. What’s that\, you ask? Well\, if you had a major fail last year\, like maybe you tried a back flip off a friend’s boat\, or ruined a whole slab of BBQ’d ribs\, no matter what it’s time to get ready to manufacture an “organic occasion” to show these suckers you aren’t the fool\, that you think everyone thinks you are. Personally\, I’m trying to recreate a bouncy house situation where I don’t injure 6 kids. Trump is already planning his redemption next summer wherein he only gets convicted on 20 felony counts. \nEither way\, one of the best ways to attack the summer is come down and join us at this big\, big show— you never know who will be there or who you might meet at the Chelsea Music Hall at 9pm! \nHosted by SETH HERZOG (“Tonight Show\,” “Broad City\,” “Chappelle Show\,” “30 Rock”)\nAnd joining Seth this month: \nPUNKIE JOHNSON (Current SNL cast member\, “Bottoms\,” “Love Life\,” ‘Bill Burr Presents”) \nMYQ KAPLAN (“America’s Got Talent\,” “Tonight Show\,” “Late Show w Letterman\,” “Conan\,” “Late Night w Seth Meyers\,” “Late Late Show w Corden\,” “@Midnight\,”) \nCHRISTIAN FINNEGAN (“Conan” “Would I Lie to You\,“Are We There Yet?” “Chappelle Show\,” Corden\, Ferguson) \nGARY VIDER (“Late Show w Colbert\,” “Conan\,” Special “It Could Be Worse”)\nPlus more special guests!\ \n  \nTICKETS
URL:https://www.chelseamusichall.com/event/seth-herzog-presents-sweet-june/
ATTACH;FMTTYPE=image/png:https://www.chelseamusichall.com/wp-content/uploads/2024/06/Sweet-June-e1718208713960.png
END:VEVENT
BEGIN:VEVENT
DTSTART;TZID=America/New_York:20240621T190000
DTEND;TZID=America/New_York:20240621T190000
DTSTAMP:20260421T082604
CREATED:20240523T144706Z
LAST-MODIFIED:20240523T144706Z
UID:6185-1718996400-1718996400@www.chelseamusichall.com
SUMMARY:Palatable Gay Robot
DESCRIPTION:Meet HumaVibe’s latest device\, Billie Bowtie. He’s programmed to be the perfect performer\, Billie must ride the line between palatable and personal – gay\, but not too gay! As he navigates his sentience amidst growing pressure from the Moderator\, Billie glitches through standup\, characters\, song\, dance\, and storytelling. \nA laugh-out-loud comedy with a meta twist\, Palatable Gay Robot is equal parts playful and thought-provoking. Broadway actor and comedian\, Stephen Brower\, will leave you feeling joyful\, inspired\, and a bit more sentient. \nBillie Bowtie – Stephen Brower\nModerator – TBA\nDirected By Zachary Prince \n  \nGET TICKETS
URL:https://www.chelseamusichall.com/event/palatable-gay-robot/
ATTACH;FMTTYPE=image/webp:https://www.chelseamusichall.com/wp-content/uploads/2024/05/eyJidWNrZXQiOiJwcm9kLXNpaC5zZWV0aWNrZXRzdXNhLnVzIiwia2V5IjoiOGU3ZDE1MjctZWE3OC00ZjZmLTgxOGUtMjQ3NDY4ODM3YjI2IiwiZWRpdHMiOnt9fQ-e1716475609219.webp
END:VEVENT
BEGIN:VEVENT
DTSTART;TZID=America/New_York:20240628T200000
DTEND;TZID=America/New_York:20240628T200000
DTSTAMP:20260421T082604
CREATED:20240620T213248Z
LAST-MODIFIED:20240620T213248Z
UID:6206-1719604800-1719604800@www.chelseamusichall.com
SUMMARY:That's a Gay Ass Live Show
DESCRIPTION:Eric Williams\, host of the hit That’s A Gay Ass Podcast\, expands his gay ass empire with a gag-worthy variety show directed by Michael Schwartz. Featuring stars from comedy\, television\, theatre and drag\, That’s A Gay Ass Live Show pits fan favorites against each other in a competition for the Champion of CharacterActress Knowledge (C.O.C.K). Let The Gaymes Begin! \nSpecial Guests TBA! \nCreated by Eric Williams and Michael Schwartz  \nDirected by Michael Schwartz (Snatched)\nProduced by Adam Gold \n  \nTICKETS
URL:https://www.chelseamusichall.com/event/thats-a-gay-ass-live-show-2/
ATTACH;FMTTYPE=image/webp:https://www.chelseamusichall.com/wp-content/uploads/2024/06/eyJidWNrZXQiOiJwcm9kLXNpaC5zZWV0aWNrZXRzdXNhLnVzIiwia2V5IjoiYTI2MTMxNTgtM2Y2YS00YmQyLWI3YjUtMzM2OWFjN2MxMTBlIiwiZWRpdHMiOnt9fQ-e1718919083216.webp
END:VEVENT
END:VCALENDAR