BEGIN:VCALENDAR
VERSION:2.0
PRODID:-//chelseamusichall - ECPv6.0.1//NONSGML v1.0//EN
CALSCALE:GREGORIAN
METHOD:PUBLISH
X-ORIGINAL-URL:https://www.chelseamusichall.com
X-WR-CALDESC:Events for chelseamusichall
REFRESH-INTERVAL;VALUE=DURATION:PT1H
X-Robots-Tag:noindex
X-PUBLISHED-TTL:PT1H
BEGIN:VTIMEZONE
TZID:America/New_York
BEGIN:DAYLIGHT
TZOFFSETFROM:-0500
TZOFFSETTO:-0400
TZNAME:EDT
DTSTART:20240310T070000
END:DAYLIGHT
BEGIN:STANDARD
TZOFFSETFROM:-0400
TZOFFSETTO:-0500
TZNAME:EST
DTSTART:20241103T060000
END:STANDARD
END:VTIMEZONE
BEGIN:VEVENT
DTSTART;TZID=America/New_York:20241108T170000
DTEND;TZID=America/New_York:20241108T170000
DTSTAMP:20260421T092401
CREATED:20240912T110041Z
LAST-MODIFIED:20240912T140623Z
UID:6237-1731085200-1731085200@www.chelseamusichall.com
SUMMARY:NYCF Presents: Bodega Chat Live w/ Michelladonna
DESCRIPTION:Doors: 5:00PM | Show: 6:00PM\nYERRRR\, come through to Bodega Chat LIVE\, a comedy show and an all around vibe\, hosted by NYC’s own – Michelladonna. \nBodega Chat is all about the collective love for New York and the crazy ways bodegas are always where we end up. \nWe finna get into some standup\, bodega chats\, wild questions\, audience games (+ prizes)\, and recording a LIVE episode of Bodega Chat (for the first time !!) filmed in front of a live audience + even more surprises. Free bag of chips included with each ticket. \nCome through to the Bodega Chat. Presented by the New York Comedy Festival. \nTICKETS \nGuests MUST arrive 30 minutes prior to check in to guarantee seating (these shows are first come first seated\, plus standing room only). ALL LINEUPS SUBJECT TO CHANGE WITHOUT NOTICE. \nPlease be advised tickets are nonrefundable. \nYou must check in at the front of the venue with a reservationist before the show. Hecklers or loud talkers\, phone use where prohibited
URL:https://www.chelseamusichall.com/event/bodega-chat-live-w-michelladonna/
ATTACH;FMTTYPE=image/jpeg:https://www.chelseamusichall.com/wp-content/uploads/2024/09/IMG_5373-e1726149974924.jpeg
END:VEVENT
BEGIN:VEVENT
DTSTART;TZID=America/New_York:20241108T200000
DTEND;TZID=America/New_York:20241108T200000
DTSTAMP:20260421T092401
CREATED:20241005T134338Z
LAST-MODIFIED:20241108T141432Z
UID:6305-1731096000-1731096000@www.chelseamusichall.com
SUMMARY:NYCF Presents: Are You Garbage & Friends
DESCRIPTION:8PM DOORS  / 8:30PM SHOW\nKevin Ryan and H. Foley bring you a night of Are You Garbage\, featuring stand-up comedy and a chance \nfor you to ask your Garbage questions! Come join us and find out if you’re trash! \nGET TICKETS
URL:https://www.chelseamusichall.com/event/nycf-presents-are-you-garbage-friends/
ATTACH;FMTTYPE=image/webp:https://www.chelseamusichall.com/wp-content/uploads/2024/10/eyJidWNrZXQiOiJwcm9kLXNpaC5zZWV0aWNrZXRzdXNhLnVzIiwia2V5IjoiOWZiMmI4NjAtZmNlZi00MjZiLThkZTItOTk1ZjhhNDY5ZjcxIiwiZWRpdHMiOnt9fQ.webp
END:VEVENT
BEGIN:VEVENT
DTSTART;TZID=America/New_York:20241109T163000
DTEND;TZID=America/New_York:20241109T163000
DTSTAMP:20260421T092401
CREATED:20240912T110040Z
LAST-MODIFIED:20240910T213054Z
UID:6253-1731169800-1731169800@www.chelseamusichall.com
SUMMARY:NYCF Presents: Filmshop Presents
DESCRIPTION:Doors: 4:30PM | Show: 4:30PM\nFilmshop Presents is our annual screening of never-before-seen films\, created specifically for this event. All films are made by Filmshop’s members\, all are inspired by a theme decided upon by our members. This screening series which has been running for over 10+ years gives our members an opportunity to collaborate with one another and create a piece that will be seen by 200+ attendees! Screenings have been hosted at Rough Trade\, Music Hall of Williamsburg\, The Bell House plus many more! \nTICKETS \nGuests MUST arrive 30 minutes prior to check in to guarantee seating (these shows are first come first seated\, plus standing room only). ALL LINEUPS SUBJECT TO CHANGE WITHOUT NOTICE. \nPlease be advised tickets are nonrefundable. \nYou must check in at the front of the venue with a reservationist before the show. Hecklers or loud talkers\, phone use where prohibited
URL:https://www.chelseamusichall.com/event/filmshop-presents/
ATTACH;FMTTYPE=image/png:https://www.chelseamusichall.com/wp-content/uploads/2024/09/NYCF-Filmshop-e1726003536587.png
END:VEVENT
BEGIN:VEVENT
DTSTART;TZID=America/New_York:20241109T200000
DTEND;TZID=America/New_York:20241109T200000
DTSTAMP:20260421T092401
CREATED:20240912T110015Z
LAST-MODIFIED:20240910T213029Z
UID:6255-1731182400-1731182400@www.chelseamusichall.com
SUMMARY:NYCF Presents: Caitlin Peluffo
DESCRIPTION:Doors: 8:00PM | Show: 8:30PM\nOriginally hailing from San Francisco\, CA\, Caitlin Peluffo is a New York based comedian. Last year\, Caitlin released a Comedy Central Featuring set and a Don’t Tell Comedy set. She was also featured on the Late Show with James Corden\, Late Show with Stephen Colbert\, After Midnight on CBS\, and as a New Face of Comedy at the Just For Laughs festival in Montreal. Peluffo regularly opens for comedians like Fortune Feimster\, Matteo Lane\, Maria Bamford\, Gary Gulman\, Colin Quinn\, and the late Gilbert Godfried to name a few. She performs all over NYC at The Comedy Cellar\, The Stand and New York Comedy Club to clubs nationwide talking about how she came to be such a lovable loose cannon. \nTICKETS\n—\nGuests MUST arrive 30 minutes prior to check in to guarantee seating (these shows are first come first seated\, plus standing room only). ALL LINEUPS SUBJECT TO CHANGE WITHOUT NOTICE. \nPlease be advised tickets are nonrefundable. \nYou must check in at the front of the venue with a reservationist before the show. Hecklers or loud talkers\, phone use where prohibited
URL:https://www.chelseamusichall.com/event/nycf-presents-caitlin-peluffo/
ATTACH;FMTTYPE=image/png:https://www.chelseamusichall.com/wp-content/uploads/2024/09/NYCF-Caitlin-Peluffo-e1726003780173.png
END:VEVENT
BEGIN:VEVENT
DTSTART;TZID=America/New_York:20241110T180000
DTEND;TZID=America/New_York:20241110T180000
DTSTAMP:20260421T092401
CREATED:20240912T110030Z
LAST-MODIFIED:20240910T213448Z
UID:6259-1731261600-1731261600@www.chelseamusichall.com
SUMMARY:NYCF Presents: Carlos Sanchez and Friends
DESCRIPTION:Doors: 6:00PM | Show: 6:30PM\nCarlos Sánchez is a stand up comic from the Dominican Republic with a 17-year career. Is known as “The Stand Up Comedy King in the Dominican Republic”. He’s known for his clean family material\, about parents\, wife\, and kids. Carlos has sold out the most important theaters in the Dominican Republic\, from 800 to 1600 people\, and has opened to the hottest acts in the world\, like Marc Anthony in front of seven thousand people. He has shared the stage with the most important names in comedy from Venezuela\, Colombia\, Cuba\, and México. Has traveled to six countries and 17 cities\, performing in front of different Latino communities.  \nTICKETS \nGuests MUST arrive 30 minutes prior to check in to guarantee seating (these shows are first come first seated\, plus standing room only). ALL LINEUPS SUBJECT TO CHANGE WITHOUT NOTICE. \nPlease be advised tickets are nonrefundable. \nYou must check in at the front of the venue with a reservationist before the show. Hecklers or loud talkers\, phone use where prohibited.
URL:https://www.chelseamusichall.com/event/nycf-presents-carlos-sanchez-and-friends/
ATTACH;FMTTYPE=image/png:https://www.chelseamusichall.com/wp-content/uploads/2024/09/NYCF-Carlos-Sanchez-e1726004075477.png
END:VEVENT
BEGIN:VEVENT
DTSTART;TZID=America/New_York:20241110T200000
DTEND;TZID=America/New_York:20241110T200000
DTSTAMP:20260421T092401
CREATED:20240912T110059Z
LAST-MODIFIED:20241112T175642Z
UID:6261-1731268800-1731268800@www.chelseamusichall.com
SUMMARY:NYCF Presents: Chloe Radcliffe: CHEAT
DESCRIPTION:Doors: 8:00PM | Show: 8:30PM\nIn this gutsy\, honest and electric solo show from a New York City-based rising star\, Chloe Radcliffe\, admits to the guilty secret that most people keep forever. (FYI: Coming to the show doesn’t make you a cheater… actually\, avoiding it seems way more suspicious). Chloe has written on and starred in Command Z from Steven Soderbergh\, has been seen on Comedy Central and After Midnight\, and was a writer for The Tonight Show with Jimmy Fallon.\nFeaturing: Chloe Radcliffe \n“Hilarious and sharply crafted” – Deadline\n“Worthy of the greats like Mike Birbiglia” – Chortle \n★★★★★ – one4review\n★★★★- Beyond the Joke\n★★★★- Broadway Baby\n★★★★- Entertainment Now \nTICKETS \nGuests MUST arrive 30 minutes prior to check in to guarantee seating (these shows are first come first seated\, plus standing room only). ALL LINEUPS SUBJECT TO CHANGE WITHOUT NOTICE. \nPlease be advised tickets are nonrefundable. \nYou must check in at the front of the venue with a reservationist before the show. Hecklers or loud talkers\, phone use where prohibited \n 
URL:https://www.chelseamusichall.com/event/nycf-presents-chloe-radcliffe-cheat/
ATTACH;FMTTYPE=image/png:https://www.chelseamusichall.com/wp-content/uploads/2024/09/NYCF-x-CMH-November-10-e1727991847157.png
END:VEVENT
BEGIN:VEVENT
DTSTART;TZID=America/New_York:20241111T180000
DTEND;TZID=America/New_York:20241111T180000
DTSTAMP:20260421T092401
CREATED:20240912T110037Z
LAST-MODIFIED:20240910T214254Z
UID:6263-1731348000-1731348000@www.chelseamusichall.com
SUMMARY:NYCF Presents: Gabe Gibbs – Silly Songs\, Sad Songs
DESCRIPTION:Doors: 6:00PM | Show: 7:00PM\nTwo pianos. One performer. “Silly Songs\, Sad Songs” is a musical comedy special written and performed by GABE GIBBS and directed by PATRICK MUHLBERGER. With one piano designated for “silly songs” and the other for “sad songs\,” Gabe uses both pianos to explore important topics such as farts\, wieners and the inevitable downfall of Jared Leto. \nGabe Gibbs is an LA-based creative at the intersection of music and comedy. Before landing in LA\, he starred as ‘Elder Price’ in the National Tour of “THE BOOK OF MORMON” after being with the Broadway company prior. He then recurred heavily on ABC’s “SCHOOLED” as lovable jock\, ‘Weasel’ and has Guest-Starred on other shows\, like “GREY’S ANATOMY”. Since then\, Gabe has focused mainly on writing and creating original\, music-driven projects. He co-created “MUSICALS THAT NEVER MADE IT”\, a musical-comedy podcast produced by STARBURNS AUDIO\, and has a musical comedy series in development with a kids and family network. Most recently\, Gabe headlined two original sold out shows at Dynasty Typewriter in Los Angeles including “SILLY SONGS\, SAD SONGS” which he wrote the book\, music and lyrics for\, and “GABE & ALDEN’S HOLIDAY PARTY” which he co-created (book\, music and lyrics) with Alden Derck. Gabe is currently on the road touring his “SILLY SONGS\, SAD SONGS” show across the United States including a stop at the Netflix Is a Joke Fest on May 12 at Dynasty Typewriter in Los Angeles. Gabe has also taken his unique skill set to socials with viral musical parodies of iconic pop stars including: Britney Spears: The Musical\, Backstreet Boys: The Musical\, Jonas Brothers: The Musical\, and many more!) \nTICKETS \nTHIS IS A 21+ EVENT \nGuests MUST arrive 30 minutes prior to check in to guarantee seating (these shows are first come first seated\, plus standing room only). ALL LINEUPS SUBJECT TO CHANGE WITHOUT NOTICE. \nPlease be advised tickets are nonrefundable. \nYou must check in at the front of the venue with a reservationist before the show. Hecklers or loud talkers\, phone use where prohibited
URL:https://www.chelseamusichall.com/event/nycf-presents-gabe-gibbs-silly-songs-sad-songs/
ATTACH;FMTTYPE=image/png:https://www.chelseamusichall.com/wp-content/uploads/2024/09/NYCF-Gabe-Gibbs-e1726004538270.png
END:VEVENT
BEGIN:VEVENT
DTSTART;TZID=America/New_York:20241111T200000
DTEND;TZID=America/New_York:20241111T200000
DTSTAMP:20260421T092401
CREATED:20240912T110006Z
LAST-MODIFIED:20240912T135139Z
UID:6266-1731355200-1731355200@www.chelseamusichall.com
SUMMARY:NYCF Presents: Natalie Ortega: Funny Girl
DESCRIPTION:Doors: 8:00PM | Show: 8:30PM\nNatalie Ortega is a New York based actor\, writer\, and comedian. She’s originally from New Jersey and it SHOWS (or so she’s been told.) Most recently she can be seen doing musical comedy at various venues across the city like Caroline’s and Asylum NYC. Catch her in the fifth and final season of Search Party on HBO Max and in the upcoming feature film Maybe I Do. \nTICKETS \nGuests MUST arrive 30 minutes prior to check in to guarantee seating (these shows are first come first seated\, plus standing room only). ALL LINEUPS SUBJECT TO CHANGE WITHOUT NOTICE. \nPlease be advised tickets are nonrefundable. \nYou must check in at the front of the venue with a reservationist before the show. Hecklers or loud talkers\, phone use where prohibited
URL:https://www.chelseamusichall.com/event/nycf-presents-natalie-ortega-funny-girl/
ATTACH;FMTTYPE=image/png:https://www.chelseamusichall.com/wp-content/uploads/2024/09/funny-girls-poster.psd-1350-x-1350-px-e1726149091644.png
END:VEVENT
BEGIN:VEVENT
DTSTART;TZID=America/New_York:20241112T180000
DTEND;TZID=America/New_York:20241112T200000
DTSTAMP:20260421T092401
CREATED:20240912T110018Z
LAST-MODIFIED:20240911T005920Z
UID:6268-1731434400-1731441600@www.chelseamusichall.com
SUMMARY:NYCF Presents: Stef Dag
DESCRIPTION:Doors: 6:00PM | Show: 6:30PM\nStef Dag is a Brooklyn based comedian\, writer\, and actor. She hosts the viral digital dating show\, “Hot and Single\,” in which she probes single people on their dating habits in an attempt to answer the age-old question: Are you the problem? Previously\, she wrote & directed digital videos for Vogue\, Glamour\, and Vanity Fair\, that featured Bill Hader\, Michael Che\, Colin Jost\, Jennifer Lawrence and more. She was a 2022 New York Comedy Festival “Creator to Watch\,” and has been featured in Betches\, the NY Post\, Daily Mail\, AOL\, Huffington Post\, and more. \nGET TICKETS\nGuests MUST arrive 30 minutes prior to check in to guarantee seating (these shows are first come first seated\, plus standing room only). ALL LINEUPS SUBJECT TO CHANGE WITHOUT NOTICE. \nPlease be advised tickets are nonrefundable. \nYou must check in at the front of the venue with a reservationist before the show. Hecklers or loud talkers\, phone use where prohibited
URL:https://www.chelseamusichall.com/event/nycf-presents-stef-dag/
ATTACH;FMTTYPE=image/png:https://www.chelseamusichall.com/wp-content/uploads/2024/09/NYCF-Stef-Dag-e1726016309671.png
END:VEVENT
BEGIN:VEVENT
DTSTART;TZID=America/New_York:20241112T200000
DTEND;TZID=America/New_York:20241112T200000
DTSTAMP:20260421T092401
CREATED:20240912T110040Z
LAST-MODIFIED:20240911T010212Z
UID:6270-1731441600-1731441600@www.chelseamusichall.com
SUMMARY:NYCF Presents: K. Trevor Wilson
DESCRIPTION:Doors: 8:00PM | Show: 8:30PM\nK Trevor Wilson\, the Man Mountain of Comedy has spent over 20 years in\nentertainment. A star from the award-winning series Letterkenny\, he received a\nnomination for Best Supporting Actor at the 2018 Canadian Screen Awards and\nhas also appeared on LOL: Last One Laughing Canada\, What Would Sal Do\, Showcase’s Billable Hours\, NBC’s Darcy’s Wildlife and A&E’s Breakout Kings. \nAs a stand up comedian K Trevor has performed on Jimmy Kimmel Live\, Comedy\nCentral’s Roast Battles and multiple times at the Just For Laughs festival in\nMontreal as well as the Moon Tower Comedy Festival and Oddball Comedy\nFestival. \nGET TICKETS \nHis debut album\, SexCop FirePenis reached the top of the iTunes Comedy Charts\nand was named Best Taped Live Performance at the 2015 Canadian Comedy\nAwards. His follow up\, Sorry! (A Canadian Album) debuted at #1 on iTunes and\nwas nominated for a 2018 Juno Award. \nAn award-winning comedian\, Wilson received the 2012 Irwin Barker Homegrown\naward at Just For Laughs\, the 2014 and 2015 COCA Comedian of the Year and was\nnamed Canada’s Best Male Stand Up at the 2015 Canadian Comedy Awards. In\nthe summer of 2018\, he taped his first Netflix special as part of the Comedians of\nthe World series that was released New Year’s Day\, 2019.
URL:https://www.chelseamusichall.com/event/nycf-presents-k-trevor-wilson/
ATTACH;FMTTYPE=image/png:https://www.chelseamusichall.com/wp-content/uploads/2024/09/NYCF-K-Trevor-Wilson-e1726016488630.png
END:VEVENT
BEGIN:VEVENT
DTSTART;TZID=America/New_York:20241114T180000
DTEND;TZID=America/New_York:20241114T180000
DTSTAMP:20260421T092401
CREATED:20240912T110005Z
LAST-MODIFIED:20240917T212211Z
UID:6274-1731607200-1731607200@www.chelseamusichall.com
SUMMARY:NYCF Presents: Aida Rodriguez
DESCRIPTION:Doors: 6:00PM | Show: 6:30PM\nAida Rodriguez is a new Afro-Latina\, taking the world of entertainment by storm with her wit\, strong performances\, and charismatic personality. Aida recently filmed a comedy special for Netflix as part of a new standup series “She Ready.” She made history as the first Latina to appear in two specials air in one month on both HBO and Showtime. She was handpicked by director Taylor Hackford for his film “The Comedian” starring Robert De Niro. In 2017\, Coca Cola Global Women’s LINC Conference sponsored Rodriguez’s speech that modeled a TED Talk. Rodriguez has also appeared on Comedy Central’s This Week at the Comedy Cellar\, The Nightly Show\, five-time host of the PBS Imagen Awards\, NBC Last Comic Standing’s finals\, TRUtv’s Laff Tracks\, Fox Laughs\, Nickelodeon Mom’s Night Out and Parental Discretion. This summer\, Aida will be releasing her first Netflix special\, as part of Tiffany Haddish’s They Ready series. She is also a regular contributor for The Young Turks. \nAida Rodriguez wears many hats as comedian\, actress\, writer and mother. Sharing her point of view of the world\, she writes comedy that is poignant and incisive. Her audiences often laugh hard\, think hard\, and feel hard as her comedy is cathartic and confrontational. Known as Funny Aida\, Rodriguez aims to challenge the norms of today and the discomfort or taboo-quality around controversial topics like race\, gender\, sexuality\, and family dynamics through her comedy. From the moment she takes the stage\, the audience is engaged whether in laughter or in thought. Rodriguez’s comedy is not only medicine for the soul\, but it may one day just change the world. \nTICKETS \nGuests MUST arrive 30 minutes prior to check in to guarantee seating (these shows are first come first seated\, plus standing room only). ALL LINEUPS SUBJECT TO CHANGE WITHOUT NOTICE. \nPlease be advised tickets are nonrefundable. \nYou must check in at the front of the venue with a reservationist before the show. Hecklers or loud talkers\, phone use where prohibited
URL:https://www.chelseamusichall.com/event/nycf-presents-aida-rodriguez/
ATTACH;FMTTYPE=image/png:https://www.chelseamusichall.com/wp-content/uploads/2024/09/unnamed-5-e1726607848558.png
END:VEVENT
BEGIN:VEVENT
DTSTART;TZID=America/New_York:20241114T200000
DTEND;TZID=America/New_York:20241114T200000
DTSTAMP:20260421T092401
CREATED:20240912T110042Z
LAST-MODIFIED:20240911T011947Z
UID:6276-1731614400-1731614400@www.chelseamusichall.com
SUMMARY:NYCF Presents: Grace O'Malley
DESCRIPTION:Doors: 8:00PM | Show: 8:30PM\nGrace O’Malley is a NYC-based comedian\, creator\, and podcast host at Barstool Sports. Her candid\, relatable and hilarious videos have amassed a following of nearly 1 million followers on TikTok. Grace has hit the ground running with stand-up\, set to tour with Whitney Cummings in the fall. She’s hosted red carpet events for Netflix’s Roast of Tom Brady and The Dance Moms Reunion\, to name a few. Grace co-hosts the popular podcast Plan Bri Uncut\, with Brianna LaPaglia\, where the lifelong friends banter about the realities of being rising stars in entertainment\, relationships\, work\, mental health\, and of course having fun. They are hitting the road this fall to take the podcast on tour. \nTICKETS \nGuests MUST arrive 30 minutes prior to check in to guarantee seating (these shows are first come first seated\, plus standing room only). ALL LINEUPS SUBJECT TO CHANGE WITHOUT NOTICE. \nPlease be advised tickets are nonrefundable. \nYou must check in at the front of the venue with a reservationist before the show. Hecklers or loud talkers\, phone use where prohibited
URL:https://www.chelseamusichall.com/event/nycf-presents-grace-omalley/
ATTACH;FMTTYPE=image/webp:https://www.chelseamusichall.com/wp-content/uploads/2024/09/eyJidWNrZXQiOiJwcm9kLXNpaC5zZWV0aWNrZXRzdXNhLnVzIiwia2V5IjoiM2Q3M2Q3NDAtMDU5Ny00NjZjLTgyNDQtZmJiNjE1NDhiZmVkIiwiZWRpdHMiOnt9fQ-e1726017010926.webp
END:VEVENT
BEGIN:VEVENT
DTSTART;TZID=America/New_York:20241116T180000
DTEND;TZID=America/New_York:20241116T180000
DTSTAMP:20260421T092401
CREATED:20240912T110024Z
LAST-MODIFIED:20241018T202655Z
UID:6279-1731780000-1731780000@www.chelseamusichall.com
SUMMARY:NYCF Presents: Corey B. Headlines Chelsea Music Hall!
DESCRIPTION:TICKETS FOR 6:00PM (DOORS AT 5:00PM)\nTICKETS FOR 8:30PM (DOORS AT 7:30PM)\nCorey Bonalewicz\, aka COREY B\, is an American radio personality\, nationally touring comedian\, and content creator based in New York. Corey B has been working in Radio for over ten years. He got his start in New Orleans and has hosted radio shows in Chicago and New York. Prior to the pandemic\, Corey performed stand up in the New York comedy club circuit and was planning on touring. Corey shifted his focus to long form content during the pandemic which showcased his comedic style on top of food hacks. He has amassed over 10M followers on TikTok and almost 8M followers on Facebook. He is releasing his own BBQ sauce and has equity in a New York restaurant and cookie company. Corey co-hosts a podcast\, Cane and Corey\, which is currently behind a paywall. He had a family YouTube page with his fiancé\, The B Family\, with a decent following but stopped posting due to restrictions on videos with children in them. Corey would like to dive back into YouTube and build upon this audience with a Corey B Reacts and Corey B Reviews page. \nGuests MUST arrive 30 minutes prior to check in to guarantee seating (these shows are first come first seated\, plus standing room only). ALL LINEUPS SUBJECT TO CHANGE WITHOUT NOTICE. \nPlease be advised tickets are nonrefundable. \nYou must check in at the front of the venue with a reservationist before the show. Hecklers or loud talkers\, phone use where prohibited
URL:https://www.chelseamusichall.com/event/nycf-presents-corey-b-headlines-chelsea-music-hall/
ATTACH;FMTTYPE=image/jpeg:https://www.chelseamusichall.com/wp-content/uploads/2024/09/Corey-B-Square-e1728135074538.jpg
END:VEVENT
BEGIN:VEVENT
DTSTART;TZID=America/New_York:20241119T200000
DTEND;TZID=America/New_York:20241119T200000
DTSTAMP:20260421T092401
CREATED:20241113T161458Z
LAST-MODIFIED:20241113T165754Z
UID:6318-1732046400-1732046400@www.chelseamusichall.com
SUMMARY:Seth Herzog Presents: Sweets-Giving!
DESCRIPTION:For the rest of us still in shock\, we could all use a little time to adjust and find some laughs. So join us at Sweet on Tuesday\, Nov 19th\, to get together\, share a laugh\, and start finding our way back to heal together. It’s the perfect night for a little humor and a lot of solidarity. So come join us for a VERY Special show… \nGET TICKETS \nHosted by SETH HERZOG (Tonight Show\, “Broad City\,” “30 Rock”) \nAnd joining seth this month will be: \nTOBY HUSS (“King of the Hill\,” “Seinfeld\,” “Maxxxine\,” “White House Plumbers”) \nJOSH BECKERMAN (NYC’s finest magician and mentalist. He will blow your mind\, each time) \nPAUL OLLINGER (Host of the podcast “Crazy Money\,” Host of TV series “Drinking Games” appeared on “Weather Gone Viral”) \nNICK WEBER (Nick is a well-known painter who is the frontman for the band “Girl Problems.” He brings some of the Girl Problems riz to the show this month)  \nANTHONY SCARAMUCCI \nAnd few Very Big Surprises!!
URL:https://www.chelseamusichall.com/event/seth-herzog-presents-sweets-giving-4/
ATTACH;FMTTYPE=image/webp:https://www.chelseamusichall.com/wp-content/uploads/2024/11/eyJidWNrZXQiOiJwcm9kLXNpaC5zZWV0aWNrZXRzdXNhLnVzIiwia2V5IjoiODMxMGUxMjgtZTEzZS00YzJkLTk5OTAtNzU3MzEyYmEwMGUyIiwiZWRpdHMiOnt9fQ-e1731514490423.webp
END:VEVENT
END:VCALENDAR