BEGIN:VCALENDAR
VERSION:2.0
PRODID:-//chelseamusichall - ECPv6.0.1//NONSGML v1.0//EN
CALSCALE:GREGORIAN
METHOD:PUBLISH
X-ORIGINAL-URL:https://www.chelseamusichall.com
X-WR-CALDESC:Events for chelseamusichall
REFRESH-INTERVAL;VALUE=DURATION:PT1H
X-Robots-Tag:noindex
X-PUBLISHED-TTL:PT1H
BEGIN:VTIMEZONE
TZID:America/New_York
BEGIN:DAYLIGHT
TZOFFSETFROM:-0500
TZOFFSETTO:-0400
TZNAME:EDT
DTSTART:20250309T070000
END:DAYLIGHT
BEGIN:STANDARD
TZOFFSETFROM:-0400
TZOFFSETTO:-0500
TZNAME:EST
DTSTART:20251102T060000
END:STANDARD
END:VTIMEZONE
BEGIN:VEVENT
DTSTART;TZID=America/New_York:20250114T080000
DTEND;TZID=America/New_York:20250114T170000
DTSTAMP:20260423T091429
CREATED:20250108T172029Z
LAST-MODIFIED:20250108T223320Z
UID:6327-1736841600-1736874000@www.chelseamusichall.com
SUMMARY:SWEET’25
DESCRIPTION:I know what you’re thinking\, “This year will be MY year.” And why not. At this first stage of January\, it should be! Hell\, I think it will be! It’s a good time of year\, everything is new again. It’s all potential. \nTICKETS \nYes \,in general do I think this year is going to get real weird and Trump will do and say and things that will be “new lows” each week\, Yes. But I always think you will be inspired by other acts of selflessness and bravery and authenticity. \nHey Luigi might put out a calendar\, and “Defying Gravity” might become the National Anthem. We don’t know! But if you commit doing one thing a day for the whole year. You might end up being way far ahead of something. \nI hope one of your New Years’ ressies is to “get out and enjoy New York City more!” If it is\, and it should be\, this is the place to start! \nWe have a bunch of only-in-new-york experiencial shows. So start here! Bring that friend\, you swore you’d call more. \nWe hope one of your New Years’ ressies is to “get out and enjoy New York City more!” If it is\, and it should be\, this is the place to start! \nWe have a bunch of only-in-new-york experiencial shows. So start here! Bring that friend\, you swore you’d call more. \nHosted by SETH HERZOG (“Tonight Show\,” “Broad City\,” “30 Rock\,” “Chappelle Show”) and he’ll be joined by \nTHOMAS MIDDLEDITCH (“Silicon Valley\,” “Godzilla: King of the Monsters.” “The Office” currently on Braodway in “Eureka Day”) \nMICHAEL CRUZ KAYNE (HBO’s “White House Plumbers” & “High Maintenance\,” Writer for “Late Show w Colbert\,” currently touring with his show “Sorry For Your Loss”) \nGABY BRYAN (Tik Tok superstar\, Hosts a podcast “Let Me Ask My Dad” with BonJovi’s David Bryan) \nRICKY VELEZ (“King of Staten Island\,” “Ricky Velez: Here’s Everything\,’ “Nightly Show”) \nAnd much\, much more!! \nSo get your tickets now\, while you still can!
URL:https://www.chelseamusichall.com/event/sweet25/
ATTACH;FMTTYPE=image/webp:https://www.chelseamusichall.com/wp-content/uploads/2025/01/eyJidWNrZXQiOiJwcm9kLXNpaC5zZWV0aWNrZXRzdXNhLnVzIiwia2V5IjoiY2NmZTA0ZWItNjU2My00OTc2LTllN2QtNGY1ZjA5Mzk3OGY0IiwiZWRpdHMiOnt9fQ-e1736356778806.webp
END:VEVENT
END:VCALENDAR